|SUCCESS| [GIT MASTER] af7930610251844109797a6b2f33f8d37ef4aa39

dpdklab at iol.unh.edu dpdklab at iol.unh.edu
Mon Oct 30 13:09:27 CET 2023


_Testing PASS_

Branch: dpdk-next-eventdev

af7930610251844109797a6b2f33f8d37ef4aa39 --> testing pass

Test environment and result as below:

+----------------------+--------------+---------------------------+------------------------------+----------------+
|     Environment      | lpm_autotest | cryptodev_sw_zuc_autotest | cryptodev_sw_snow3g_autotest | dpdk_unit_test |
+======================+==============+===========================+==============================+================+
| Ubuntu 20.04 ARM SVE | PASS         | SKIPPED                   | SKIPPED                      | SKIPPED        |
+----------------------+--------------+---------------------------+------------------------------+----------------+
| Debian 11 (arm)      | SKIPPED      | PASS                      | PASS                         | SKIPPED        |
+----------------------+--------------+---------------------------+------------------------------+----------------+
| Fedora 38 (ARM)      | SKIPPED      | SKIPPED                   | SKIPPED                      | PASS           |
+----------------------+--------------+---------------------------+------------------------------+----------------+


Ubuntu 20.04 ARM SVE
	Kernel: 5.4.0-80-generic
	Compiler: gcc 10.3.0 (Ubuntu 10.3.0-1ubuntu1~20.04)

Debian 11 (arm)
	Kernel: Container Host Kernel
	Compiler: gcc 10.2.1

Fedora 38 (ARM)
	Kernel: Depends on container host
	Compiler: gcc 13.1.1

To view detailed results, visit:
https://lab.dpdk.org/results/dashboard/tarballs/26729/

UNH-IOL DPDK Community Lab

To manage your email subscriptions, visit: 
https://lab.dpdk.org/results/dashboard/preferences/subscriptions/


More information about the test-report mailing list