|SUCCESS| [GIT MASTER] 25a6384054eb736724a345e347da5b309dd3617c
    dpdklab at iol.unh.edu 
    dpdklab at iol.unh.edu
       
    Mon Oct 30 16:53:14 CET 2023
    
    
  
_Testing PASS_
Branch: dpdk-next-crypto
25a6384054eb736724a345e347da5b309dd3617c --> testing pass
Test environment and result as below:
+------------------+--------------------+
|   Environment    | dpdk_meson_compile |
+==================+====================+
| CentOS Stream 9  | PASS               |
+------------------+--------------------+
| FreeBSD 13       | PASS               |
+------------------+--------------------+
| Fedora 38        | PASS               |
+------------------+--------------------+
| openSUSE Leap 15 | PASS               |
+------------------+--------------------+
| Ubuntu 22.04     | PASS               |
+------------------+--------------------+
| CentOS Stream 8  | PASS               |
+------------------+--------------------+
| Debian Bullseye  | PASS               |
+------------------+--------------------+
| RHEL8            | PASS               |
+------------------+--------------------+
| Fedora 37        | PASS               |
+------------------+--------------------+
CentOS Stream 9
	Kernel: 4.18.0-240.10.1.el8_3.x86_64
	Compiler: gcc 11.3.1 20220421
FreeBSD 13
	Kernel: 13.0
	Compiler: clang 11.0.1
Fedora 38
	Kernel: Depends on container host
	Compiler: gcc 13.1.1
openSUSE Leap 15
	Kernel: 4.18.0-240.10.1.el8_3.x86_64
	Compiler: gcc 7.5.0
Ubuntu 22.04
	Kernel: 4.18.0-240.10.1.el8_3.x86_64
	Compiler: gcc 11.3.0
CentOS Stream 8
	Kernel: 4.18.0-240.10.1.el8_3.x86_64
	Compiler: gcc 8.4.1 20200928
Debian Bullseye
	Kernel: 5.4.0-122-generic
	Compiler: gcc 10.2.1-6
RHEL8
	Kernel: 4.18.0-240.10.1.el8_3.x86_64
	Compiler: gcc 8.3.1 20191121 (Red Hat 8.3.1-5)
Fedora 37
	Kernel: Depends on container host system
	Compiler: gcc 12.3.1
To view detailed results, visit:
https://lab.dpdk.org/results/dashboard/tarballs/26732/
UNH-IOL DPDK Community Lab
To manage your email subscriptions, visit: 
https://lab.dpdk.org/results/dashboard/preferences/subscriptions/
    
    
More information about the test-report
mailing list