|SUCCESS| [GIT MASTER] 25a6384054eb736724a345e347da5b309dd3617c
dpdklab at iol.unh.edu
dpdklab at iol.unh.edu
Mon Oct 30 16:55:25 CET 2023
_Testing PASS_
Branch: dpdk-next-crypto
25a6384054eb736724a345e347da5b309dd3617c --> testing pass
Test environment and result as below:
+----------------------+------------------------------+----------------+--------------+
| Environment | cryptodev_sw_snow3g_autotest | dpdk_unit_test | lpm_autotest |
+======================+==============================+================+==============+
| Debian 11 (arm) | PASS | SKIPPED | SKIPPED |
+----------------------+------------------------------+----------------+--------------+
| Fedora 38 (ARM) | SKIPPED | PASS | SKIPPED |
+----------------------+------------------------------+----------------+--------------+
| Ubuntu 20.04 ARM SVE | SKIPPED | SKIPPED | PASS |
+----------------------+------------------------------+----------------+--------------+
Debian 11 (arm)
Kernel: Container Host Kernel
Compiler: gcc 10.2.1
Fedora 38 (ARM)
Kernel: Depends on container host
Compiler: gcc 13.1.1
Ubuntu 20.04 ARM SVE
Kernel: 5.4.0-80-generic
Compiler: gcc 10.3.0 (Ubuntu 10.3.0-1ubuntu1~20.04)
To view detailed results, visit:
https://lab.dpdk.org/results/dashboard/tarballs/26732/
UNH-IOL DPDK Community Lab
To manage your email subscriptions, visit:
https://lab.dpdk.org/results/dashboard/preferences/subscriptions/
More information about the test-report
mailing list