|SUCCESS| pw133629 [PATCH] config/arm: add cortex-A55 part number
dpdklab at iol.unh.edu
dpdklab at iol.unh.edu
Mon Oct 30 18:25:58 CET 2023
Test-Label: iol-unit-arm64-testing
Test-Status: SUCCESS
http://dpdk.org/patch/133629
_Testing PASS_
Submitter: Hemant Agrawal <hemant.agrawal at nxp.com>
Date: Monday, October 30 2023 15:51:51
DPDK git baseline: Repo:dpdk
Branch: master
CommitID:8fa22e1f79aae7dfc7a9eb77034e555e155e5e2a
133629 --> testing pass
Test environment and result as below:
+--------------------------+----------------+---------------------------+--------------+
| Environment | dpdk_unit_test | cryptodev_sw_zuc_autotest | lpm_autotest |
+==========================+================+===========================+==============+
| CentOS Stream 9 (ARM) | PASS | SKIPPED | SKIPPED |
+--------------------------+----------------+---------------------------+--------------+
| Fedora 38 (ARM) | PASS | SKIPPED | SKIPPED |
+--------------------------+----------------+---------------------------+--------------+
| Debian 11 (Buster) (ARM) | PASS | SKIPPED | SKIPPED |
+--------------------------+----------------+---------------------------+--------------+
| Fedora 37 (ARM) | PASS | SKIPPED | SKIPPED |
+--------------------------+----------------+---------------------------+--------------+
| Fedora 38 (ARM Clang) | PASS | SKIPPED | SKIPPED |
+--------------------------+----------------+---------------------------+--------------+
| Ubuntu 20.04 (ARM) | PASS | SKIPPED | SKIPPED |
+--------------------------+----------------+---------------------------+--------------+
| Debian 11 (arm) | SKIPPED | PASS | SKIPPED |
+--------------------------+----------------+---------------------------+--------------+
| Ubuntu 20.04 ARM SVE | SKIPPED | SKIPPED | PASS |
+--------------------------+----------------+---------------------------+--------------+
CentOS Stream 9 (ARM)
Kernel: Container Host Kernel
Compiler: gcc 11.3.1
Fedora 38 (ARM)
Kernel: Depends on container host
Compiler: gcc 13.1.1
Debian 11 (Buster) (ARM)
Kernel: Container Host Kernel
Compiler: gcc 10.2.1
Fedora 37 (ARM)
Kernel: Depends on container host
Compiler: gcc 12.3.1
Fedora 38 (ARM Clang)
Kernel: Depends on container host
Compiler: clang 16.0.3
Ubuntu 20.04 (ARM)
Kernel: Container Host Kernel
Compiler: gcc 9.4.0
Debian 11 (arm)
Kernel: Container Host Kernel
Compiler: gcc 10.2.1
Ubuntu 20.04 ARM SVE
Kernel: 5.4.0-80-generic
Compiler: gcc 10.3.0 (Ubuntu 10.3.0-1ubuntu1~20.04)
To view detailed results, visit:
https://lab.dpdk.org/results/dashboard/patchsets/28145/
UNH-IOL DPDK Community Lab
To manage your email subscriptions, visit:
https://lab.dpdk.org/results/dashboard/preferences/subscriptions/
More information about the test-report
mailing list