|SUCCESS| pw133631 [PATCH] [v3] event/dlb2: fix disable PASID for ke

dpdklab at iol.unh.edu dpdklab at iol.unh.edu
Mon Oct 30 23:38:23 CET 2023


Test-Label: iol-unit-arm64-testing
Test-Status: SUCCESS
http://dpdk.org/patch/133631

_Testing PASS_

Submitter: Abdullah Sevincer <abdullah.sevincer at intel.com>
Date: Monday, October 30 2023 21:12:44 
DPDK git baseline: Repo:dpdk
  Branch: master
  CommitID:8fa22e1f79aae7dfc7a9eb77034e555e155e5e2a

133631 --> testing pass

Test environment and result as below:

+-----------------------+------------------------------+---------------------------+--------------+----------------+
|      Environment      | cryptodev_sw_snow3g_autotest | cryptodev_sw_zuc_autotest | lpm_autotest | dpdk_unit_test |
+=======================+==============================+===========================+==============+================+
| Debian 11 (arm)       | PASS                         | PASS                      | SKIPPED      | SKIPPED        |
+-----------------------+------------------------------+---------------------------+--------------+----------------+
| Ubuntu 20.04 ARM SVE  | SKIPPED                      | SKIPPED                   | PASS         | SKIPPED        |
+-----------------------+------------------------------+---------------------------+--------------+----------------+
| CentOS Stream 9 (ARM) | SKIPPED                      | SKIPPED                   | SKIPPED      | PASS           |
+-----------------------+------------------------------+---------------------------+--------------+----------------+
| Fedora 38 (ARM Clang) | SKIPPED                      | SKIPPED                   | SKIPPED      | PASS           |
+-----------------------+------------------------------+---------------------------+--------------+----------------+


Debian 11 (arm)
	Kernel: Container Host Kernel
	Compiler: gcc 10.2.1

Ubuntu 20.04 ARM SVE
	Kernel: 5.4.0-80-generic
	Compiler: gcc 10.3.0 (Ubuntu 10.3.0-1ubuntu1~20.04)

CentOS Stream 9 (ARM)
	Kernel: Container Host Kernel
	Compiler: gcc 11.3.1

Fedora 38 (ARM Clang)
	Kernel: Depends on container host
	Compiler: clang 16.0.3

To view detailed results, visit:
https://lab.dpdk.org/results/dashboard/patchsets/28147/

UNH-IOL DPDK Community Lab

To manage your email subscriptions, visit: 
https://lab.dpdk.org/results/dashboard/preferences/subscriptions/


More information about the test-report mailing list