|SUCCESS| pw133636 [PATCH] [v2] test/security: fix buffer leaks in e
    dpdklab at iol.unh.edu 
    dpdklab at iol.unh.edu
       
    Tue Oct 31 08:48:00 CET 2023
    
    
  
Test-Label: iol-unit-arm64-testing
Test-Status: SUCCESS
http://dpdk.org/patch/133636
_Testing PASS_
Submitter: Akhil Goyal <gakhil at marvell.com>
Date: Tuesday, October 31 2023 06:44:46 
DPDK git baseline: Repo:dpdk
  Branch: master
  CommitID:32faaf30732cb4006cd1e45997403427029ef5fe
133636 --> testing pass
Test environment and result as below:
+-----------------------+----------------+---------------------------+
|      Environment      | dpdk_unit_test | cryptodev_sw_zuc_autotest |
+=======================+================+===========================+
| Fedora 37 (ARM)       | PASS           | SKIPPED                   |
+-----------------------+----------------+---------------------------+
| CentOS Stream 9 (ARM) | PASS           | SKIPPED                   |
+-----------------------+----------------+---------------------------+
| Fedora 38 (ARM)       | PASS           | SKIPPED                   |
+-----------------------+----------------+---------------------------+
| Ubuntu 20.04 (ARM)    | PASS           | SKIPPED                   |
+-----------------------+----------------+---------------------------+
| Debian 11 (arm)       | SKIPPED        | PASS                      |
+-----------------------+----------------+---------------------------+
Fedora 37 (ARM)
	Kernel: Depends on container host
	Compiler: gcc 12.3.1
CentOS Stream 9 (ARM)
	Kernel: Container Host Kernel
	Compiler: gcc 11.3.1
Fedora 38 (ARM)
	Kernel: Depends on container host
	Compiler: gcc 13.1.1
Ubuntu 20.04 (ARM)
	Kernel: Container Host Kernel
	Compiler: gcc 9.4.0
Debian 11 (arm)
	Kernel: Container Host Kernel
	Compiler: gcc 10.2.1
To view detailed results, visit:
https://lab.dpdk.org/results/dashboard/patchsets/28152/
UNH-IOL DPDK Community Lab
To manage your email subscriptions, visit: 
https://lab.dpdk.org/results/dashboard/preferences/subscriptions/
    
    
More information about the test-report
mailing list