|SUCCESS| pw133635 [PATCH] [v7] devtools: add script to check for no
    dpdklab at iol.unh.edu 
    dpdklab at iol.unh.edu
       
    Tue Oct 31 09:47:29 CET 2023
    
    
  
Test-Label: iol-unit-arm64-testing
Test-Status: SUCCESS
http://dpdk.org/patch/133635
_Testing PASS_
Submitter: Stephen Hemminger <stephen at networkplumber.org>
Date: Monday, October 30 2023 22:32:18 
DPDK git baseline: Repo:dpdk
  Branch: master
  CommitID:32faaf30732cb4006cd1e45997403427029ef5fe
133635 --> testing pass
Test environment and result as below:
+--------------------------+------------------------------+----------------+--------------+---------------------------+
|       Environment        | cryptodev_sw_snow3g_autotest | dpdk_unit_test | lpm_autotest | cryptodev_sw_zuc_autotest |
+==========================+==============================+================+==============+===========================+
| Debian 11 (arm)          | PASS                         | SKIPPED        | SKIPPED      | PASS                      |
+--------------------------+------------------------------+----------------+--------------+---------------------------+
| Debian 11 (Buster) (ARM) | SKIPPED                      | PASS           | SKIPPED      | SKIPPED                   |
+--------------------------+------------------------------+----------------+--------------+---------------------------+
| CentOS Stream 9 (ARM)    | SKIPPED                      | PASS           | SKIPPED      | SKIPPED                   |
+--------------------------+------------------------------+----------------+--------------+---------------------------+
| Fedora 37 (ARM)          | SKIPPED                      | PASS           | SKIPPED      | SKIPPED                   |
+--------------------------+------------------------------+----------------+--------------+---------------------------+
| Fedora 38 (ARM)          | SKIPPED                      | PASS           | SKIPPED      | SKIPPED                   |
+--------------------------+------------------------------+----------------+--------------+---------------------------+
| Ubuntu 20.04 (ARM)       | SKIPPED                      | PASS           | SKIPPED      | SKIPPED                   |
+--------------------------+------------------------------+----------------+--------------+---------------------------+
| Ubuntu 20.04 ARM SVE     | SKIPPED                      | SKIPPED        | PASS         | SKIPPED                   |
+--------------------------+------------------------------+----------------+--------------+---------------------------+
Debian 11 (arm)
	Kernel: Container Host Kernel
	Compiler: gcc 10.2.1
Debian 11 (Buster) (ARM)
	Kernel: Container Host Kernel
	Compiler: gcc 10.2.1
CentOS Stream 9 (ARM)
	Kernel: Container Host Kernel
	Compiler: gcc 11.3.1
Fedora 37 (ARM)
	Kernel: Depends on container host
	Compiler: gcc 12.3.1
Fedora 38 (ARM)
	Kernel: Depends on container host
	Compiler: gcc 13.1.1
Ubuntu 20.04 (ARM)
	Kernel: Container Host Kernel
	Compiler: gcc 9.4.0
Ubuntu 20.04 ARM SVE
	Kernel: 5.4.0-80-generic
	Compiler: gcc 10.3.0 (Ubuntu 10.3.0-1ubuntu1~20.04)
To view detailed results, visit:
https://lab.dpdk.org/results/dashboard/patchsets/28151/
UNH-IOL DPDK Community Lab
To manage your email subscriptions, visit: 
https://lab.dpdk.org/results/dashboard/preferences/subscriptions/
    
    
More information about the test-report
mailing list