|SUCCESS| pw133662-133664 [PATCH] [6/6] net/hns3: fix uninitialized 
    dpdklab at iol.unh.edu 
    dpdklab at iol.unh.edu
       
    Tue Oct 31 15:42:50 CET 2023
    
    
  
Test-Label: iol-unit-arm64-testing
Test-Status: SUCCESS
http://dpdk.org/patch/133664
_Testing PASS_
Submitter: Jie Hai <haijie1 at huawei.com>
Date: Tuesday, October 31 2023 12:23:59 
DPDK git baseline: Repo:dpdk
  Branch: master
  CommitID:32faaf30732cb4006cd1e45997403427029ef5fe
133662-133664 --> testing pass
Test environment and result as below:
+--------------------------+----------------+
|       Environment        | dpdk_unit_test |
+==========================+================+
| Debian 11 (Buster) (ARM) | PASS           |
+--------------------------+----------------+
| CentOS Stream 9 (ARM)    | PASS           |
+--------------------------+----------------+
| Fedora 38 (ARM)          | PASS           |
+--------------------------+----------------+
Debian 11 (Buster) (ARM)
	Kernel: Container Host Kernel
	Compiler: gcc 10.2.1
CentOS Stream 9 (ARM)
	Kernel: Container Host Kernel
	Compiler: gcc 11.3.1
Fedora 38 (ARM)
	Kernel: Depends on container host
	Compiler: gcc 13.1.1
To view detailed results, visit:
https://lab.dpdk.org/results/dashboard/patchsets/28158/
UNH-IOL DPDK Community Lab
To manage your email subscriptions, visit: 
https://lab.dpdk.org/results/dashboard/preferences/subscriptions/
    
    
More information about the test-report
mailing list