|SUCCESS| [GIT MASTER] 8f34999c2489bcae2182266810009b77c532f17e
dpdklab at iol.unh.edu
dpdklab at iol.unh.edu
Tue Apr 2 06:24:29 CEST 2024
_Testing PASS_
Branch: tags/v21.11
8f34999c2489bcae2182266810009b77c532f17e --> testing pass
Test environment and result as below:
+---------------------+----------------------+--------------------+
| Environment | dpdk_mingw64_compile | dpdk_meson_compile |
+=====================+======================+====================+
| Windows Server 2019 | PASS | PASS |
+---------------------+----------------------+--------------------+
| Windows Server 2022 | PASS | PASS |
+---------------------+----------------------+--------------------+
| CentOS Stream 8 | SKIPPED | PASS |
+---------------------+----------------------+--------------------+
| Fedora 38 | SKIPPED | PASS |
+---------------------+----------------------+--------------------+
| Ubuntu 20.04 | SKIPPED | PASS |
+---------------------+----------------------+--------------------+
| Debian 12 | SKIPPED | PASS |
+---------------------+----------------------+--------------------+
| FreeBSD 13.2 | SKIPPED | PASS |
+---------------------+----------------------+--------------------+
| RHEL 7 | SKIPPED | PASS |
+---------------------+----------------------+--------------------+
Windows Server 2019
Kernel: 10.0.17763
Compiler: clang 14.0 and gcc 8.1.0 (MinGW)
Windows Server 2022
Kernel: 10.0.20348.2031
Compiler: clang 15.0.7, gcc 8.1.0 (MinGW), and MSVC VS 17.9
CentOS Stream 8
Kernel: 5.4.0-167-generic
Compiler: gcc 8.5.0 20210514
Fedora 38
Kernel: Depends on container host
Compiler: gcc 13.2.1
Ubuntu 20.04
Kernel: 5.4.0-167-generic
Compiler: gcc 9.4.0-1ubuntu1~20.04.1
Debian 12
Kernel: Container Host Kernel
Compiler: gcc 10.2.1
FreeBSD 13.2
Kernel: 13.2
Compiler: clang 14.0.5
RHEL 7
Kernel: 5.4.0-167-generic
Compiler: gcc 4.8.5 20150623 (Red Hat 4.8.5-44)
To view detailed results, visit:
https://lab.dpdk.org/results/dashboard/tarballs/28689/
UNH-IOL DPDK Community Lab
To manage your email subscriptions, visit:
https://lab.dpdk.org/results/dashboard/preferences/subscriptions/
More information about the test-report
mailing list