|SUCCESS| pw139023-139030 [PATCH] [v5,8/8] net/tap: remove no longer
dpdklab at iol.unh.edu
dpdklab at iol.unh.edu
Wed Apr 3 00:33:59 CEST 2024
Test-Label: iol-abi-testing
Test-Status: SUCCESS
http://dpdk.org/patch/139030
_Testing PASS_
Submitter: Stephen Hemminger <stephen at networkplumber.org>
Date: Tuesday, April 02 2024 17:12:40
DPDK git baseline: Repo:dpdk
Branch: master
CommitID:e2e546ab5bf5e024986ccb5310ab43982f3bb40c
139023-139030 --> testing pass
Test environment and result as below:
+------------------+----------+
| Environment | abi_test |
+==================+==========+
| CentOS Stream 8 | PASS |
+------------------+----------+
| Fedora 38 | PASS |
+------------------+----------+
| openSUSE Leap 15 | PASS |
+------------------+----------+
| Debian Bullseye | PASS |
+------------------+----------+
| Debian 12 | PASS |
+------------------+----------+
| Fedora 39 | PASS |
+------------------+----------+
| CentOS Stream 9 | PASS |
+------------------+----------+
| RHEL8 | PASS |
+------------------+----------+
CentOS Stream 8
Kernel: 5.4.0-167-generic
Compiler: gcc 8.5.0 20210514
Fedora 38
Kernel: Depends on container host
Compiler: clang 16.0.6
openSUSE Leap 15
Kernel: 5.4.0-167-generic
Compiler: gcc 7.5.0
Debian Bullseye
Kernel: 5.4.0-167-generic
Compiler: gcc 10.2.1-6
Debian 12
Kernel: Container Host Kernel
Compiler: gcc 10.2.1
Fedora 39
Kernel: Depends on container host
Compiler: gcc 13.2.1
CentOS Stream 9
Kernel: 5.4.0-167-generic
Compiler: gcc 11.4.1 20230605
RHEL8
Kernel: 5.4.0-167-generic
Compiler: gcc 8.5.0 20210514 (Red Hat 8.5.0-20)
To view detailed results, visit:
https://lab.dpdk.org/results/dashboard/patchsets/29693/
UNH-IOL DPDK Community Lab
To manage your email subscriptions, visit:
https://lab.dpdk.org/results/dashboard/preferences/subscriptions/
More information about the test-report
mailing list