|SUCCESS| pw139074-139078 [PATCH] [5/5] net/hns3: disable SCTP verif

dpdklab at iol.unh.edu dpdklab at iol.unh.edu
Wed Apr 3 16:04:22 CEST 2024


Test-Label: iol-unit-arm64-testing
Test-Status: SUCCESS
http://dpdk.org/patch/139078

_Testing PASS_

Submitter: Jie Hai <haijie1 at huawei.com>
Date: Wednesday, April 03 2024 10:16:23 
DPDK git baseline: Repo:dpdk
  Branch: master
  CommitID:e2e546ab5bf5e024986ccb5310ab43982f3bb40c

139074-139078 --> testing pass

Test environment and result as below:

+-----------------------------+---------------------------+----------------+------------------------------+
|         Environment         | cryptodev_sw_zuc_autotest | dpdk_unit_test | cryptodev_sw_snow3g_autotest |
+=============================+===========================+================+==============================+
| Debian 12 (arm)             | PASS                      | PASS           | PASS                         |
+-----------------------------+---------------------------+----------------+------------------------------+
| Debian 11 (Buster) (ARM)    | SKIPPED                   | PASS           | SKIPPED                      |
+-----------------------------+---------------------------+----------------+------------------------------+
| CentOS Stream 9 (ARM)       | SKIPPED                   | PASS           | SKIPPED                      |
+-----------------------------+---------------------------+----------------+------------------------------+
| Fedora 38 (ARM)             | SKIPPED                   | PASS           | SKIPPED                      |
+-----------------------------+---------------------------+----------------+------------------------------+
| Fedora 37 (ARM)             | SKIPPED                   | PASS           | SKIPPED                      |
+-----------------------------+---------------------------+----------------+------------------------------+
| Fedora 39 (ARM)             | SKIPPED                   | PASS           | SKIPPED                      |
+-----------------------------+---------------------------+----------------+------------------------------+
| Ubuntu 20.04 (ARM)          | SKIPPED                   | PASS           | SKIPPED                      |
+-----------------------------+---------------------------+----------------+------------------------------+
| 32-bit Ubuntu 20.04.4 (ARM) | SKIPPED                   | PASS           | SKIPPED                      |
+-----------------------------+---------------------------+----------------+------------------------------+


Debian 12 (arm)
	Kernel: Container Host Kernel
	Compiler: gcc 12.2.0

Debian 11 (Buster) (ARM)
	Kernel: Container Host Kernel
	Compiler: gcc 10.2.1

CentOS Stream 9 (ARM)
	Kernel: Container Host Kernel
	Compiler: gcc 11.4.1

Fedora 38 (ARM)
	Kernel: Depends on container host
	Compiler: gcc 13.2.1

Fedora 37 (ARM)
	Kernel: Depends on container host
	Compiler: gcc 12.3.1

Fedora 39 (ARM)
	Kernel: Depends on container host
	Compiler: gcc 13.2.1

Ubuntu 20.04 (ARM)
	Kernel: Container Host Kernel
	Compiler: gcc 9.4.0

32-bit Ubuntu 20.04.4 (ARM)
	Kernel: 5.4.0-155-generic aarch64
	Compiler: gcc 9.4

To view detailed results, visit:
https://lab.dpdk.org/results/dashboard/patchsets/29701/

UNH-IOL DPDK Community Lab

To manage your email subscriptions, visit: 
https://lab.dpdk.org/results/dashboard/preferences/subscriptions/


More information about the test-report mailing list