|SUCCESS| pw139097-139099 [PATCH] [v13,3/3] net/af_xdp: support AF_X

dpdklab at iol.unh.edu dpdklab at iol.unh.edu
Thu Apr 4 19:01:54 CEST 2024


Test-Label: iol-abi-testing
Test-Status: SUCCESS
http://dpdk.org/patch/139099

_Testing PASS_

Submitter: Maryam Tahhan <mtahhan at redhat.com>
Date: Thursday, April 04 2024 14:23:22 
DPDK git baseline: Repo:dpdk
  Branch: master
  CommitID:e2e546ab5bf5e024986ccb5310ab43982f3bb40c

139097-139099 --> testing pass

Test environment and result as below:

+-------------+----------+
| Environment | abi_test |
+=============+==========+
| Debian 12   | PASS     |
+-------------+----------+
| Fedora 38   | PASS     |
+-------------+----------+
| RHEL8       | PASS     |
+-------------+----------+


Debian 12
	Kernel: Container Host Kernel
	Compiler: gcc 10.2.1

Fedora 38
	Kernel: Depends on container host
	Compiler: gcc 13.2.1

RHEL8
	Kernel: 5.4.0-167-generic
	Compiler: gcc 8.5.0 20210514 (Red Hat 8.5.0-20)

To view detailed results, visit:
https://lab.dpdk.org/results/dashboard/patchsets/29713/

UNH-IOL DPDK Community Lab

To manage your email subscriptions, visit: 
https://lab.dpdk.org/results/dashboard/preferences/subscriptions/


More information about the test-report mailing list