|SUCCESS| pw139107-139110 [PATCH] [v11,4/4] cryptodev: remove rte ma

dpdklab at iol.unh.edu dpdklab at iol.unh.edu
Thu Apr 4 20:41:09 CEST 2024


Test-Label: iol-compile-amd64-testing
Test-Status: SUCCESS
http://dpdk.org/patch/139110

_Testing PASS_

Submitter: Tyler Retzlaff <roretzla at linux.microsoft.com>
Date: Thursday, April 04 2024 17:51:55 
DPDK git baseline: Repo:dpdk
  Branch: master
  CommitID:e2e546ab5bf5e024986ccb5310ab43982f3bb40c

139107-139110 --> testing pass

Test environment and result as below:

+---------------------+-------------------+--------------------+----------------------+
|     Environment     | dpdk_msvc_compile | dpdk_meson_compile | dpdk_mingw64_compile |
+=====================+===================+====================+======================+
| Windows Server 2022 | PASS              | PASS               | PASS                 |
+---------------------+-------------------+--------------------+----------------------+
| Windows Server 2019 | SKIPPED           | PASS               | SKIPPED              |
+---------------------+-------------------+--------------------+----------------------+
| FreeBSD 13.2        | SKIPPED           | PASS               | SKIPPED              |
+---------------------+-------------------+--------------------+----------------------+


Windows Server 2022
	Kernel: 10.0.20348.2031
	Compiler: clang 15.0.7, gcc 8.1.0 (MinGW), and MSVC VS 17.9

Windows Server 2019
	Kernel: 10.0.17763
	Compiler: clang 14.0 and gcc 8.1.0 (MinGW)

FreeBSD 13.2
	Kernel: 13.2
	Compiler: clang 14.0.5

To view detailed results, visit:
https://lab.dpdk.org/results/dashboard/patchsets/29717/

UNH-IOL DPDK Community Lab

To manage your email subscriptions, visit: 
https://lab.dpdk.org/results/dashboard/preferences/subscriptions/


More information about the test-report mailing list