|SUCCESS| pw139182 [PATCH] compress/mlx5: add VF device ID
dpdklab at iol.unh.edu
dpdklab at iol.unh.edu
Mon Apr 8 09:38:46 CEST 2024
Test-Label: iol-abi-testing
Test-Status: SUCCESS
http://dpdk.org/patch/139182
_Testing PASS_
Submitter: Michael Baum <michaelba at nvidia.com>
Date: Monday, April 08 2024 06:39:14
DPDK git baseline: Repo:dpdk
Branch: master
CommitID:3ce30fc646084443eb06eb808c73e3312edc90d1
139182 --> testing pass
Test environment and result as below:
+------------------+----------+
| Environment | abi_test |
+==================+==========+
| Debian Bullseye | PASS |
+------------------+----------+
| Fedora 39 | PASS |
+------------------+----------+
| openSUSE Leap 15 | PASS |
+------------------+----------+
| CentOS Stream 9 | PASS |
+------------------+----------+
| Fedora 38 | PASS |
+------------------+----------+
| Ubuntu 22.04 | PASS |
+------------------+----------+
| RHEL8 | PASS |
+------------------+----------+
| Fedora 37 | PASS |
+------------------+----------+
| CentOS Stream 8 | PASS |
+------------------+----------+
Debian Bullseye
Kernel: 5.4.0-167-generic
Compiler: gcc 10.2.1-6
Fedora 39
Kernel: Depends on container host
Compiler: gcc 13.2.1
openSUSE Leap 15
Kernel: 5.4.0-167-generic
Compiler: gcc 7.5.0
CentOS Stream 9
Kernel: 5.4.0-167-generic
Compiler: gcc 11.4.1 20230605
Fedora 38
Kernel: Depends on container host
Compiler: clang 16.0.6
Ubuntu 22.04
Kernel: 5.4.0-167-generic
Compiler: gcc 11.4.0
RHEL8
Kernel: 5.4.0-167-generic
Compiler: gcc 8.5.0 20210514 (Red Hat 8.5.0-20)
Fedora 37
Kernel: Depends on container host system
Compiler: gcc 12.3.1
CentOS Stream 8
Kernel: 5.4.0-167-generic
Compiler: gcc 8.5.0 20210514
To view detailed results, visit:
https://lab.dpdk.org/results/dashboard/patchsets/29736/
UNH-IOL DPDK Community Lab
To manage your email subscriptions, visit:
https://lab.dpdk.org/results/dashboard/preferences/subscriptions/
More information about the test-report
mailing list