|SUCCESS| pw139184 [PATCH] config/arm: add Ampere AmpereOneX platfor

dpdklab at iol.unh.edu dpdklab at iol.unh.edu
Mon Apr 8 16:07:13 CEST 2024


Test-Label: iol-unit-arm64-testing
Test-Status: SUCCESS
http://dpdk.org/patch/139184

_Testing PASS_

Submitter: Yutang Jiang <jiangyutang at os.amperecomputing.com>
Date: Sunday, April 07 2024 06:36:04 
DPDK git baseline: Repo:dpdk
  Branch: master
  CommitID:e2e546ab5bf5e024986ccb5310ab43982f3bb40c

139184 --> testing pass

Test environment and result as below:

+-----------------------------+----------------+------------------------------+---------------------------+--------------+
|         Environment         | dpdk_unit_test | cryptodev_sw_snow3g_autotest | cryptodev_sw_zuc_autotest | lpm_autotest |
+=============================+================+==============================+===========================+==============+
| Debian 11 (Buster) (ARM)    | PASS           | SKIPPED                      | SKIPPED                   | SKIPPED      |
+-----------------------------+----------------+------------------------------+---------------------------+--------------+
| Fedora 37 (ARM)             | PASS           | SKIPPED                      | SKIPPED                   | SKIPPED      |
+-----------------------------+----------------+------------------------------+---------------------------+--------------+
| Debian 12 (arm)             | PASS           | PASS                         | PASS                      | SKIPPED      |
+-----------------------------+----------------+------------------------------+---------------------------+--------------+
| CentOS Stream 9 (ARM)       | PASS           | SKIPPED                      | SKIPPED                   | SKIPPED      |
+-----------------------------+----------------+------------------------------+---------------------------+--------------+
| Fedora 39 (ARM)             | PASS           | SKIPPED                      | SKIPPED                   | SKIPPED      |
+-----------------------------+----------------+------------------------------+---------------------------+--------------+
| Fedora 38 (ARM)             | PASS           | SKIPPED                      | SKIPPED                   | SKIPPED      |
+-----------------------------+----------------+------------------------------+---------------------------+--------------+
| Ubuntu 20.04 (ARM)          | PASS           | SKIPPED                      | SKIPPED                   | SKIPPED      |
+-----------------------------+----------------+------------------------------+---------------------------+--------------+
| 32-bit Ubuntu 20.04.4 (ARM) | PASS           | SKIPPED                      | SKIPPED                   | SKIPPED      |
+-----------------------------+----------------+------------------------------+---------------------------+--------------+
| Fedora 39 (ARM Clang)       | PASS           | SKIPPED                      | SKIPPED                   | SKIPPED      |
+-----------------------------+----------------+------------------------------+---------------------------+--------------+
| Ubuntu 20.04 ARM SVE        | SKIPPED        | SKIPPED                      | SKIPPED                   | PASS         |
+-----------------------------+----------------+------------------------------+---------------------------+--------------+


Debian 11 (Buster) (ARM)
	Kernel: Container Host Kernel
	Compiler: gcc 10.2.1

Fedora 37 (ARM)
	Kernel: Depends on container host
	Compiler: gcc 12.3.1

Debian 12 (arm)
	Kernel: Container Host Kernel
	Compiler: gcc 12.2.0

CentOS Stream 9 (ARM)
	Kernel: Container Host Kernel
	Compiler: gcc 11.4.1

Fedora 39 (ARM)
	Kernel: Depends on container host
	Compiler: gcc 13.2.1

Fedora 38 (ARM)
	Kernel: Depends on container host
	Compiler: gcc 13.2.1

Ubuntu 20.04 (ARM)
	Kernel: Container Host Kernel
	Compiler: gcc 9.4.0

32-bit Ubuntu 20.04.4 (ARM)
	Kernel: 5.4.0-155-generic aarch64
	Compiler: gcc 9.4

Fedora 39 (ARM Clang)
	Kernel: Depends on container host
	Compiler: clang 17.0.6

Ubuntu 20.04 ARM SVE
	Kernel: 5.4.0-167-generic
	Compiler: gcc (Ubuntu 10.5.0-1ubuntu1~20.04) 10.5.0

To view detailed results, visit:
https://lab.dpdk.org/results/dashboard/patchsets/29738/

UNH-IOL DPDK Community Lab

To manage your email subscriptions, visit: 
https://lab.dpdk.org/results/dashboard/preferences/subscriptions/


More information about the test-report mailing list