|SUCCESS| pw139215-139216 [PATCH] [v4,2/2] test: add functional test

dpdklab at iol.unh.edu dpdklab at iol.unh.edu
Tue Apr 9 20:22:51 CEST 2024


Test-Label: iol-unit-arm64-testing
Test-Status: SUCCESS
http://dpdk.org/patch/139216

_Testing PASS_

Submitter: Stephen Hemminger <stephen at networkplumber.org>
Date: Tuesday, April 09 2024 17:05:03 
DPDK git baseline: Repo:dpdk
  Branch: master
  CommitID:e2e546ab5bf5e024986ccb5310ab43982f3bb40c

139215-139216 --> testing pass

Test environment and result as below:

+-----------------------------+----------------+
|         Environment         | dpdk_unit_test |
+=============================+================+
| Debian 11 (Buster) (ARM)    | PASS           |
+-----------------------------+----------------+
| 32-bit Ubuntu 20.04.4 (ARM) | PASS           |
+-----------------------------+----------------+
| CentOS Stream 9 (ARM)       | PASS           |
+-----------------------------+----------------+


Debian 11 (Buster) (ARM)
	Kernel: Container Host Kernel
	Compiler: gcc 10.2.1

32-bit Ubuntu 20.04.4 (ARM)
	Kernel: 5.4.0-155-generic aarch64
	Compiler: gcc 9.4

CentOS Stream 9 (ARM)
	Kernel: Container Host Kernel
	Compiler: gcc 11.4.1

To view detailed results, visit:
https://lab.dpdk.org/results/dashboard/patchsets/29748/

UNH-IOL DPDK Community Lab

To manage your email subscriptions, visit: 
https://lab.dpdk.org/results/dashboard/preferences/subscriptions/


More information about the test-report mailing list