|SUCCESS| pw139220 [PATCH] ethdev: fix strict aliasing lead to link
dpdklab at iol.unh.edu
dpdklab at iol.unh.edu
Thu Apr 11 05:56:46 CEST 2024
Test-Label: iol-abi-testing
Test-Status: SUCCESS
http://dpdk.org/patch/139220
_Testing PASS_
Submitter: Chengwen Feng <fengchengwen at huawei.com>
Date: Thursday, April 11 2024 03:07:49
DPDK git baseline: Repo:dpdk
Branch: master
CommitID:e2e546ab5bf5e024986ccb5310ab43982f3bb40c
139220 --> testing pass
Test environment and result as below:
+-----------------+----------+
| Environment | abi_test |
+=================+==========+
| Fedora 37 | PASS |
+-----------------+----------+
| Fedora 38 | PASS |
+-----------------+----------+
| CentOS Stream 9 | PASS |
+-----------------+----------+
| Ubuntu 22.04 | PASS |
+-----------------+----------+
Fedora 37
Kernel: Depends on container host system
Compiler: gcc 12.3.1
Fedora 38
Kernel: Depends on container host
Compiler: clang 16.0.6
CentOS Stream 9
Kernel: 5.4.0-167-generic
Compiler: gcc 11.4.1 20230605
Ubuntu 22.04
Kernel: 5.4.0-167-generic
Compiler: gcc 11.4.0
To view detailed results, visit:
https://lab.dpdk.org/results/dashboard/patchsets/29752/
UNH-IOL DPDK Community Lab
To manage your email subscriptions, visit:
https://lab.dpdk.org/results/dashboard/preferences/subscriptions/
More information about the test-report
mailing list