|SUCCESS| pw139220 [PATCH] ethdev: fix strict aliasing lead to link

dpdklab at iol.unh.edu dpdklab at iol.unh.edu
Thu Apr 11 05:59:55 CEST 2024


Test-Label: iol-unit-arm64-testing
Test-Status: SUCCESS
http://dpdk.org/patch/139220

_Testing PASS_

Submitter: Chengwen Feng <fengchengwen at huawei.com>
Date: Thursday, April 11 2024 03:07:49 
DPDK git baseline: Repo:dpdk
  Branch: master
  CommitID:e2e546ab5bf5e024986ccb5310ab43982f3bb40c

139220 --> testing pass

Test environment and result as below:

+--------------------------+---------------------------+----------------+--------------+
|       Environment        | cryptodev_sw_zuc_autotest | dpdk_unit_test | lpm_autotest |
+==========================+===========================+================+==============+
| Debian 12 (arm)          | PASS                      | SKIPPED        | SKIPPED      |
+--------------------------+---------------------------+----------------+--------------+
| Debian 11 (Buster) (ARM) | SKIPPED                   | PASS           | SKIPPED      |
+--------------------------+---------------------------+----------------+--------------+
| Ubuntu 20.04 ARM SVE     | SKIPPED                   | SKIPPED        | PASS         |
+--------------------------+---------------------------+----------------+--------------+


Debian 12 (arm)
	Kernel: Container Host Kernel
	Compiler: gcc 12.2.0

Debian 11 (Buster) (ARM)
	Kernel: Container Host Kernel
	Compiler: gcc 10.2.1

Ubuntu 20.04 ARM SVE
	Kernel: 5.4.0-167-generic
	Compiler: gcc (Ubuntu 10.5.0-1ubuntu1~20.04) 10.5.0

To view detailed results, visit:
https://lab.dpdk.org/results/dashboard/patchsets/29752/

UNH-IOL DPDK Community Lab

To manage your email subscriptions, visit: 
https://lab.dpdk.org/results/dashboard/preferences/subscriptions/


More information about the test-report mailing list