|SUCCESS| [GIT MASTER] 83a31ef4d4ecc1e8671bce2f24bb3e3ac2b7acc9
dpdklab at iol.unh.edu
dpdklab at iol.unh.edu
Thu Apr 11 08:44:04 CEST 2024
_Testing PASS_
Branch: tags/v22.11
83a31ef4d4ecc1e8671bce2f24bb3e3ac2b7acc9 --> testing pass
Test environment and result as below:
+-----------------+----------------+
| Environment | dpdk_unit_test |
+=================+================+
| Fedora 38 | PASS |
+-----------------+----------------+
| CentOS Stream 8 | PASS |
+-----------------+----------------+
| CentOS Stream 9 | PASS |
+-----------------+----------------+
Fedora 38
Kernel: Depends on container host
Compiler: gcc 13.2.1
CentOS Stream 8
Kernel: 5.4.0-167-generic
Compiler: gcc 8.5.0 20210514
CentOS Stream 9
Kernel: 5.4.0-167-generic
Compiler: gcc 11.4.1 20230605
To view detailed results, visit:
https://lab.dpdk.org/results/dashboard/tarballs/28776/
UNH-IOL DPDK Community Lab
To manage your email subscriptions, visit:
https://lab.dpdk.org/results/dashboard/preferences/subscriptions/
More information about the test-report
mailing list