|SUCCESS| pw139223-139225 [PATCH] [3/3] test/crypto: add QP depth us
dpdklab at iol.unh.edu
dpdklab at iol.unh.edu
Thu Apr 11 11:58:35 CEST 2024
Test-Label: iol-compile-amd64-testing
Test-Status: SUCCESS
http://dpdk.org/patch/139225
_Testing PASS_
Submitter: Akhil Goyal <gakhil at marvell.com>
Date: Thursday, April 11 2024 08:22:32
DPDK git baseline: Repo:dpdk
Branch: master
CommitID:e2e546ab5bf5e024986ccb5310ab43982f3bb40c
139223-139225 --> testing pass
Test environment and result as below:
+---------------------+-------------------+--------------------+----------------------+
| Environment | dpdk_msvc_compile | dpdk_meson_compile | dpdk_mingw64_compile |
+=====================+===================+====================+======================+
| Windows Server 2022 | PASS | PASS | PASS |
+---------------------+-------------------+--------------------+----------------------+
| FreeBSD 13.2 | SKIPPED | PASS | SKIPPED |
+---------------------+-------------------+--------------------+----------------------+
| Windows Server 2019 | SKIPPED | PASS | PASS |
+---------------------+-------------------+--------------------+----------------------+
| Fedora 37 | SKIPPED | PASS | SKIPPED |
+---------------------+-------------------+--------------------+----------------------+
Windows Server 2022
Kernel: 10.0.20348.2031
Compiler: clang 15.0.7, gcc 8.1.0 (MinGW), and MSVC VS 17.9
FreeBSD 13.2
Kernel: 13.2
Compiler: clang 14.0.5
Windows Server 2019
Kernel: 10.0.17763
Compiler: clang 14.0 and gcc 8.1.0 (MinGW)
Fedora 37
Kernel: Depends on container host system
Compiler: gcc 12.3.1
To view detailed results, visit:
https://lab.dpdk.org/results/dashboard/patchsets/29755/
UNH-IOL DPDK Community Lab
To manage your email subscriptions, visit:
https://lab.dpdk.org/results/dashboard/preferences/subscriptions/
More information about the test-report
mailing list