|SUCCESS| [GIT MASTER] 48549dacf88beb6127992bfd1046ec5e1c587b1e

dpdklab at iol.unh.edu dpdklab at iol.unh.edu
Fri Apr 12 19:46:30 CEST 2024


_Testing PASS_

Branch: 21.11-staging

48549dacf88beb6127992bfd1046ec5e1c587b1e --> testing pass

Test environment and result as below:

+---------------------+----------------------+--------------------+
|     Environment     | dpdk_mingw64_compile | dpdk_meson_compile |
+=====================+======================+====================+
| Windows Server 2019 | PASS                 | PASS               |
+---------------------+----------------------+--------------------+
| Windows Server 2022 | PASS                 | PASS               |
+---------------------+----------------------+--------------------+
| FreeBSD 13.2        | SKIPPED              | PASS               |
+---------------------+----------------------+--------------------+
| Fedora 37           | SKIPPED              | PASS               |
+---------------------+----------------------+--------------------+
| Fedora 38           | SKIPPED              | PASS               |
+---------------------+----------------------+--------------------+


Windows Server 2019
	Kernel: 10.0.17763
	Compiler: clang 14.0 and gcc 8.1.0 (MinGW)

Windows Server 2022
	Kernel: 10.0.20348.2031
	Compiler: clang 15.0.7, gcc 8.1.0 (MinGW), and MSVC VS 17.9

FreeBSD 13.2
	Kernel: 13.2
	Compiler: clang 14.0.5

Fedora 37
	Kernel: Depends on container host system
	Compiler: gcc 12.3.1

Fedora 38
	Kernel: Depends on container host
	Compiler: gcc 13.2.1

To view detailed results, visit:
https://lab.dpdk.org/results/dashboard/tarballs/28796/

UNH-IOL DPDK Community Lab

To manage your email subscriptions, visit: 
https://lab.dpdk.org/results/dashboard/preferences/subscriptions/


More information about the test-report mailing list