|SUCCESS| pw139244-139246 [PATCH] [v2,3/3] test/crypto: add QP depth
dpdklab at iol.unh.edu
dpdklab at iol.unh.edu
Sat Apr 13 05:04:20 CEST 2024
Test-Label: iol-unit-arm64-testing
Test-Status: SUCCESS
http://dpdk.org/patch/139246
_Testing PASS_
Submitter: Akhil Goyal <gakhil at marvell.com>
Date: Friday, April 12 2024 11:57:22
DPDK git baseline: Repo:dpdk
Branch: master
CommitID:e2e546ab5bf5e024986ccb5310ab43982f3bb40c
139244-139246 --> testing pass
Test environment and result as below:
+--------------------------+----------------+--------------+
| Environment | dpdk_unit_test | lpm_autotest |
+==========================+================+==============+
| CentOS Stream 9 (ARM) | PASS | SKIPPED |
+--------------------------+----------------+--------------+
| Debian 11 (Buster) (ARM) | PASS | SKIPPED |
+--------------------------+----------------+--------------+
| Debian 12 (arm) | PASS | SKIPPED |
+--------------------------+----------------+--------------+
| Fedora 37 (ARM) | PASS | SKIPPED |
+--------------------------+----------------+--------------+
| Fedora 39 (ARM) | PASS | SKIPPED |
+--------------------------+----------------+--------------+
| Fedora 38 (ARM) | PASS | SKIPPED |
+--------------------------+----------------+--------------+
| Ubuntu 20.04 ARM SVE | SKIPPED | PASS |
+--------------------------+----------------+--------------+
CentOS Stream 9 (ARM)
Kernel: Container Host Kernel
Compiler: gcc 11.4.1
Debian 11 (Buster) (ARM)
Kernel: Container Host Kernel
Compiler: gcc 10.2.1
Debian 12 (arm)
Kernel: Container Host Kernel
Compiler: gcc 12.2.0
Fedora 37 (ARM)
Kernel: Depends on container host
Compiler: gcc 12.3.1
Fedora 39 (ARM)
Kernel: Depends on container host
Compiler: gcc 13.2.1
Fedora 38 (ARM)
Kernel: Depends on container host
Compiler: gcc 13.2.1
Ubuntu 20.04 ARM SVE
Kernel: 5.4.0-167-generic
Compiler: gcc (Ubuntu 10.5.0-1ubuntu1~20.04) 10.5.0
To view detailed results, visit:
https://lab.dpdk.org/results/dashboard/patchsets/29767/
UNH-IOL DPDK Community Lab
To manage your email subscriptions, visit:
https://lab.dpdk.org/results/dashboard/preferences/subscriptions/
More information about the test-report
mailing list