|SUCCESS| [GIT MASTER] e2e546ab5bf5e024986ccb5310ab43982f3bb40c

dpdklab at iol.unh.edu dpdklab at iol.unh.edu
Sun Apr 14 02:37:39 CEST 2024


_Testing PASS_

Branch: dpdk

e2e546ab5bf5e024986ccb5310ab43982f3bb40c --> testing pass

Test environment and result as below:

+------------------------------------+--------------------+
|            Environment             | dpdk_meson_compile |
+====================================+====================+
| Ubuntu 20.04 ARM SVE               | PASS               |
+------------------------------------+--------------------+
| Debian 12 with MUSDK               | PASS               |
+------------------------------------+--------------------+
| Ubuntu 20.04 ARM GCC Cross Compile | PASS               |
+------------------------------------+--------------------+


Ubuntu 20.04 ARM SVE
	Kernel: 5.4.0-167-generic
	Compiler: gcc (Ubuntu 10.5.0-1ubuntu1~20.04) 10.5.0

Debian 12 with MUSDK
	Kernel: Container Host Kernel
	Compiler: gcc 12.2.0

Ubuntu 20.04 ARM GCC Cross Compile
	Kernel: 5.4.0-167-generic
	Compiler: aarch64-linux-gnu-gcc (Ubuntu 9.4.0-1ubuntu1~20.04.2) 9.4.0

To view detailed results, visit:
https://lab.dpdk.org/results/dashboard/tarballs/28808/

UNH-IOL DPDK Community Lab

To manage your email subscriptions, visit: 
https://lab.dpdk.org/results/dashboard/preferences/subscriptions/


More information about the test-report mailing list