|SUCCESS| pw139278 [PATCH] [v6] ethdev: fix strict aliasing lead to
dpdklab at iol.unh.edu
dpdklab at iol.unh.edu
Mon Apr 15 06:43:17 CEST 2024
Test-Label: iol-unit-arm64-testing
Test-Status: SUCCESS
http://dpdk.org/patch/139278
_Testing PASS_
Submitter: Chengwen Feng <fengchengwen at huawei.com>
Date: Saturday, April 13 2024 08:48:40
DPDK git baseline: Repo:dpdk
Branch: master
CommitID:6db5f91b5e628671c341b833f21ea35e65e9699d
139278 --> testing pass
Test environment and result as below:
+----------------------+------------------------------+--------------+---------------------------+
| Environment | cryptodev_sw_snow3g_autotest | lpm_autotest | cryptodev_sw_zuc_autotest |
+======================+==============================+==============+===========================+
| Debian 12 (arm) | PASS | SKIPPED | PASS |
+----------------------+------------------------------+--------------+---------------------------+
| Ubuntu 20.04 ARM SVE | SKIPPED | PASS | SKIPPED |
+----------------------+------------------------------+--------------+---------------------------+
Debian 12 (arm)
Kernel: Container Host Kernel
Compiler: gcc 12.2.0
Ubuntu 20.04 ARM SVE
Kernel: 5.4.0-167-generic
Compiler: gcc (Ubuntu 10.5.0-1ubuntu1~20.04) 10.5.0
To view detailed results, visit:
https://lab.dpdk.org/results/dashboard/patchsets/29773/
UNH-IOL DPDK Community Lab
To manage your email subscriptions, visit:
https://lab.dpdk.org/results/dashboard/preferences/subscriptions/
More information about the test-report
mailing list