|SUCCESS| pw139283-139290 [PATCH] [8/8] dma/odm: add remaining ops

dpdklab at iol.unh.edu dpdklab at iol.unh.edu
Mon Apr 15 20:41:44 CEST 2024


Test-Label: iol-unit-arm64-testing
Test-Status: SUCCESS
http://dpdk.org/patch/139290

_Testing PASS_

Submitter: Anoob Joseph <anoobj at marvell.com>
Date: Monday, April 15 2024 15:31:59 
DPDK git baseline: Repo:dpdk
  Branch: master
  CommitID:e2e546ab5bf5e024986ccb5310ab43982f3bb40c

139283-139290 --> testing pass

Test environment and result as below:

+----------------------+---------------------------+------------------------------+--------------+
|     Environment      | cryptodev_sw_zuc_autotest | cryptodev_sw_snow3g_autotest | lpm_autotest |
+======================+===========================+==============================+==============+
| Debian 12 (arm)      | PASS                      | PASS                         | SKIPPED      |
+----------------------+---------------------------+------------------------------+--------------+
| Ubuntu 20.04 ARM SVE | SKIPPED                   | SKIPPED                      | PASS         |
+----------------------+---------------------------+------------------------------+--------------+


Debian 12 (arm)
	Kernel: Container Host Kernel
	Compiler: gcc 12.2.0

Ubuntu 20.04 ARM SVE
	Kernel: 5.4.0-167-generic
	Compiler: gcc (Ubuntu 10.5.0-1ubuntu1~20.04) 10.5.0

To view detailed results, visit:
https://lab.dpdk.org/results/dashboard/patchsets/29778/

UNH-IOL DPDK Community Lab

To manage your email subscriptions, visit: 
https://lab.dpdk.org/results/dashboard/preferences/subscriptions/


More information about the test-report mailing list