|SUCCESS| pw139295 [PATCH] app/testpmd: fix lcore ID restriction
dpdklab at iol.unh.edu
dpdklab at iol.unh.edu
Mon Apr 15 22:59:17 CEST 2024
Test-Label: iol-abi-testing
Test-Status: SUCCESS
http://dpdk.org/patch/139295
_Testing PASS_
Submitter: Sivaprasad Tummala <Sivaprasad.Tummala at amd.com>
Date: Monday, April 15 2024 19:46:31
DPDK git baseline: Repo:dpdk
Branch: master
CommitID:6db5f91b5e628671c341b833f21ea35e65e9699d
139295 --> testing pass
Test environment and result as below:
+------------------+----------+
| Environment | abi_test |
+==================+==========+
| Fedora 39 | PASS |
+------------------+----------+
| Fedora 38 | PASS |
+------------------+----------+
| openSUSE Leap 15 | PASS |
+------------------+----------+
| CentOS Stream 8 | PASS |
+------------------+----------+
| Debian Bullseye | PASS |
+------------------+----------+
| Ubuntu 22.04 | PASS |
+------------------+----------+
| RHEL8 | PASS |
+------------------+----------+
| CentOS Stream 9 | PASS |
+------------------+----------+
| Debian 12 | PASS |
+------------------+----------+
| Fedora 37 | PASS |
+------------------+----------+
Fedora 39
Kernel: Depends on container host
Compiler: gcc 13.2.1
Fedora 38
Kernel: Depends on container host
Compiler: gcc 13.2.1
openSUSE Leap 15
Kernel: 5.4.0-167-generic
Compiler: gcc 7.5.0
CentOS Stream 8
Kernel: 5.4.0-167-generic
Compiler: gcc 8.5.0 20210514
Debian Bullseye
Kernel: 5.4.0-167-generic
Compiler: gcc 10.2.1-6
Ubuntu 22.04
Kernel: 5.4.0-167-generic
Compiler: gcc 11.4.0
RHEL8
Kernel: 5.4.0-167-generic
Compiler: gcc 8.5.0 20210514 (Red Hat 8.5.0-20)
CentOS Stream 9
Kernel: 5.4.0-167-generic
Compiler: gcc 11.4.1 20230605
Debian 12
Kernel: Container Host Kernel
Compiler: gcc 10.2.1
Fedora 37
Kernel: Depends on container host system
Compiler: gcc 12.3.1
To view detailed results, visit:
https://lab.dpdk.org/results/dashboard/patchsets/29781/
UNH-IOL DPDK Community Lab
To manage your email subscriptions, visit:
https://lab.dpdk.org/results/dashboard/preferences/subscriptions/
More information about the test-report
mailing list