|SUCCESS| pw139398-139413 [PATCH] [v4,16/16] crypto/mlx5: pack struc
dpdklab at iol.unh.edu
dpdklab at iol.unh.edu
Tue Apr 16 12:56:37 CEST 2024
Test-Label: iol-compile-arm64-testing
Test-Status: SUCCESS
http://dpdk.org/patch/139413
_Testing PASS_
Submitter: Tyler Retzlaff <roretzla at linux.microsoft.com>
Date: Tuesday, April 16 2024 00:05:13
DPDK git baseline: Repo:dpdk
Branch: master
CommitID:e2e546ab5bf5e024986ccb5310ab43982f3bb40c
139398-139413 --> testing pass
Test environment and result as below:
+--------------------------+--------------------+
| Environment | dpdk_meson_compile |
+==========================+====================+
| Ubuntu 20.04 ARM SVE | PASS |
+--------------------------+--------------------+
| Debian 11 (Buster) (ARM) | PASS |
+--------------------------+--------------------+
| Debian 12 with MUSDK | PASS |
+--------------------------+--------------------+
Ubuntu 20.04 ARM SVE
Kernel: 5.4.0-167-generic
Compiler: gcc (Ubuntu 10.5.0-1ubuntu1~20.04) 10.5.0
Debian 11 (Buster) (ARM)
Kernel: Container Host Kernel
Compiler: gcc 10.2.1
Debian 12 with MUSDK
Kernel: Container Host Kernel
Compiler: gcc 12.2.0
To view detailed results, visit:
https://lab.dpdk.org/results/dashboard/patchsets/29787/
UNH-IOL DPDK Community Lab
To manage your email subscriptions, visit:
https://lab.dpdk.org/results/dashboard/preferences/subscriptions/
More information about the test-report
mailing list