|SUCCESS| pw139416-139417 [PATCH] [v1,2/2] test/dma: add functions t
dpdklab at iol.unh.edu
dpdklab at iol.unh.edu
Tue Apr 16 15:25:32 CEST 2024
Test-Label: iol-abi-testing
Test-Status: SUCCESS
http://dpdk.org/patch/139417
_Testing PASS_
Submitter: Vidya Sagar Velumuri <vvelumuri at marvell.com>
Date: Tuesday, April 16 2024 12:37:47
DPDK git baseline: Repo:dpdk
Branch: master
CommitID:e2e546ab5bf5e024986ccb5310ab43982f3bb40c
139416-139417 --> testing pass
Test environment and result as below:
+------------------+----------+
| Environment | abi_test |
+==================+==========+
| Fedora 38 | PASS |
+------------------+----------+
| Debian 12 | PASS |
+------------------+----------+
| openSUSE Leap 15 | PASS |
+------------------+----------+
| Fedora 39 | PASS |
+------------------+----------+
Fedora 38
Kernel: Depends on container host
Compiler: gcc 13.2.1
Debian 12
Kernel: Container Host Kernel
Compiler: gcc 10.2.1
openSUSE Leap 15
Kernel: 5.4.0-167-generic
Compiler: gcc 7.5.0
Fedora 39
Kernel: Depends on container host
Compiler: clang 17.0.6
To view detailed results, visit:
https://lab.dpdk.org/results/dashboard/patchsets/29790/
UNH-IOL DPDK Community Lab
To manage your email subscriptions, visit:
https://lab.dpdk.org/results/dashboard/preferences/subscriptions/
More information about the test-report
mailing list