|SUCCESS| pw139418 [PATCH] doc/sample_app_ug: add baseline mode

dpdklab at iol.unh.edu dpdklab at iol.unh.edu
Tue Apr 16 20:04:20 CEST 2024


Test-Label: iol-unit-arm64-testing
Test-Status: SUCCESS
http://dpdk.org/patch/139418

_Testing PASS_

Submitter: Karen Kelly <karen.kelly at intel.com>
Date: Tuesday, April 16 2024 13:20:35 
DPDK git baseline: Repo:dpdk
  Branch: master
  CommitID:e2e546ab5bf5e024986ccb5310ab43982f3bb40c

139418 --> testing pass

Test environment and result as below:

+--------------------------+----------------+
|       Environment        | dpdk_unit_test |
+==========================+================+
| CentOS Stream 9 (ARM)    | PASS           |
+--------------------------+----------------+
| Debian 12 (arm)          | PASS           |
+--------------------------+----------------+
| Debian 11 (Buster) (ARM) | PASS           |
+--------------------------+----------------+
| Fedora 37 (ARM)          | PASS           |
+--------------------------+----------------+


CentOS Stream 9 (ARM)
	Kernel: Container Host Kernel
	Compiler: gcc 11.4.1

Debian 12 (arm)
	Kernel: Container Host Kernel
	Compiler: gcc 12.2.0

Debian 11 (Buster) (ARM)
	Kernel: Container Host Kernel
	Compiler: gcc 10.2.1

Fedora 37 (ARM)
	Kernel: Depends on container host
	Compiler: gcc 12.3.1

To view detailed results, visit:
https://lab.dpdk.org/results/dashboard/patchsets/29791/

UNH-IOL DPDK Community Lab

To manage your email subscriptions, visit: 
https://lab.dpdk.org/results/dashboard/preferences/subscriptions/


More information about the test-report mailing list