|SUCCESS| pw139432 [PATCH] [v2] mailmap: clean up vmware entries
dpdklab at iol.unh.edu
dpdklab at iol.unh.edu
Wed Apr 17 02:56:55 CEST 2024
Test-Label: iol-abi-testing
Test-Status: SUCCESS
http://dpdk.org/patch/139432
_Testing PASS_
Submitter: Jochen Behrens <jochen.behrens at broadcom.com>
Date: Wednesday, April 17 2024 00:06:55
DPDK git baseline: Repo:dpdk
Branch: master
CommitID:e2e546ab5bf5e024986ccb5310ab43982f3bb40c
139432 --> testing pass
Test environment and result as below:
+-----------------+----------+
| Environment | abi_test |
+=================+==========+
| CentOS Stream 9 | PASS |
+-----------------+----------+
| Fedora 37 | PASS |
+-----------------+----------+
| Debian Bullseye | PASS |
+-----------------+----------+
| Fedora 39 | PASS |
+-----------------+----------+
| RHEL8 | PASS |
+-----------------+----------+
| Fedora 38 | PASS |
+-----------------+----------+
| Debian 12 | PASS |
+-----------------+----------+
CentOS Stream 9
Kernel: 5.4.0-167-generic
Compiler: gcc 11.4.1 20230605
Fedora 37
Kernel: Depends on container host system
Compiler: gcc 12.3.1
Debian Bullseye
Kernel: 5.4.0-167-generic
Compiler: gcc 10.2.1-6
Fedora 39
Kernel: Depends on container host
Compiler: gcc 13.2.1
RHEL8
Kernel: 5.4.0-167-generic
Compiler: gcc 8.5.0 20210514 (Red Hat 8.5.0-20)
Fedora 38
Kernel: Depends on container host
Compiler: gcc 13.2.1
Debian 12
Kernel: Container Host Kernel
Compiler: gcc 10.2.1
To view detailed results, visit:
https://lab.dpdk.org/results/dashboard/patchsets/29798/
UNH-IOL DPDK Community Lab
To manage your email subscriptions, visit:
https://lab.dpdk.org/results/dashboard/preferences/subscriptions/
More information about the test-report
mailing list