|SUCCESS| pw139436-139437 [PATCH] [RFC,2/2] ethdev: add data size fi

dpdklab at iol.unh.edu dpdklab at iol.unh.edu
Wed Apr 17 13:42:24 CEST 2024


Test-Label: iol-compile-arm64-testing
Test-Status: SUCCESS
http://dpdk.org/patch/139437

_Testing PASS_

Submitter: Michael Baum <michaelba at nvidia.com>
Date: Wednesday, April 17 2024 07:23:04 
DPDK git baseline: Repo:dpdk
  Branch: master
  CommitID:ea9b0f7277acc931ced3fee4a3ee087a26ee1401

139436-139437 --> testing pass

Test environment and result as below:

+----------------------+--------------------+
|     Environment      | dpdk_meson_compile |
+======================+====================+
| Ubuntu 20.04 ARM SVE | PASS               |
+----------------------+--------------------+
| Fedora 37 (ARM)      | PASS               |
+----------------------+--------------------+
| Debian 12 with MUSDK | PASS               |
+----------------------+--------------------+


Ubuntu 20.04 ARM SVE
	Kernel: 5.4.0-167-generic
	Compiler: gcc (Ubuntu 10.5.0-1ubuntu1~20.04) 10.5.0

Fedora 37 (ARM)
	Kernel: Depends on container host
	Compiler: gcc 12.3.1

Debian 12 with MUSDK
	Kernel: Container Host Kernel
	Compiler: gcc 12.2.0

To view detailed results, visit:
https://lab.dpdk.org/results/dashboard/patchsets/29801/

UNH-IOL DPDK Community Lab

To manage your email subscriptions, visit: 
https://lab.dpdk.org/results/dashboard/preferences/subscriptions/


More information about the test-report mailing list