|SUCCESS| pw139448 [PATCH] [v2] lib/vhost: add flag for async connec
dpdklab at iol.unh.edu
dpdklab at iol.unh.edu
Wed Apr 17 18:18:30 CEST 2024
Test-Label: iol-unit-arm64-testing
Test-Status: SUCCESS
http://dpdk.org/patch/139448
_Testing PASS_
Submitter: Ushkov Daniil <udav at mts.ru>
Date: Wednesday, April 17 2024 09:15:04
DPDK git baseline: Repo:dpdk
Branch: master
CommitID:deedfb86a7a6e10064d3cccd593f62072de96e36
139448 --> testing pass
Test environment and result as below:
+--------------------------+----------------+
| Environment | dpdk_unit_test |
+==========================+================+
| CentOS Stream 9 (ARM) | PASS |
+--------------------------+----------------+
| Debian 11 (Buster) (ARM) | PASS |
+--------------------------+----------------+
| Fedora 37 (ARM) | PASS |
+--------------------------+----------------+
CentOS Stream 9 (ARM)
Kernel: Container Host Kernel
Compiler: gcc 11.4.1
Debian 11 (Buster) (ARM)
Kernel: Container Host Kernel
Compiler: gcc 10.2.1
Fedora 37 (ARM)
Kernel: Depends on container host
Compiler: gcc 12.3.1
To view detailed results, visit:
https://lab.dpdk.org/results/dashboard/patchsets/29805/
UNH-IOL DPDK Community Lab
To manage your email subscriptions, visit:
https://lab.dpdk.org/results/dashboard/preferences/subscriptions/
More information about the test-report
mailing list