|SUCCESS| pw139455 [PATCH] [v3] mailmap: clean up vmware entries
dpdklab at iol.unh.edu
dpdklab at iol.unh.edu
Thu Apr 18 05:27:14 CEST 2024
Test-Label: iol-unit-arm64-testing
Test-Status: SUCCESS
http://dpdk.org/patch/139455
_Testing PASS_
Submitter: Jochen Behrens <jochen.behrens at broadcom.com>
Date: Wednesday, April 17 2024 16:19:00
DPDK git baseline: Repo:dpdk
Branch: master
CommitID:e2e546ab5bf5e024986ccb5310ab43982f3bb40c
139455 --> testing pass
Test environment and result as below:
+-----------------------------+----------------+
| Environment | dpdk_unit_test |
+=============================+================+
| 32-bit Ubuntu 20.04.4 (ARM) | PASS |
+-----------------------------+----------------+
| CentOS Stream 9 (ARM) | PASS |
+-----------------------------+----------------+
| Debian 11 (Buster) (ARM) | PASS |
+-----------------------------+----------------+
32-bit Ubuntu 20.04.4 (ARM)
Kernel: 5.4.0-155-generic aarch64
Compiler: gcc 9.4
CentOS Stream 9 (ARM)
Kernel: Container Host Kernel
Compiler: gcc 11.4.1
Debian 11 (Buster) (ARM)
Kernel: Container Host Kernel
Compiler: gcc 10.2.1
To view detailed results, visit:
https://lab.dpdk.org/results/dashboard/patchsets/29809/
UNH-IOL DPDK Community Lab
To manage your email subscriptions, visit:
https://lab.dpdk.org/results/dashboard/preferences/subscriptions/
More information about the test-report
mailing list