|SUCCESS| [GIT MASTER] 83a31ef4d4ecc1e8671bce2f24bb3e3ac2b7acc9
dpdklab at iol.unh.edu
dpdklab at iol.unh.edu
Thu Apr 18 08:22:28 CEST 2024
_Testing PASS_
Branch: tags/v22.11
83a31ef4d4ecc1e8671bce2f24bb3e3ac2b7acc9 --> testing pass
Test environment and result as below:
+---------------------+----------------+
| Environment | dpdk_unit_test |
+=====================+================+
| Debian 12 | PASS |
+---------------------+----------------+
| Windows Server 2019 | PASS |
+---------------------+----------------+
| Windows Server 2022 | PASS |
+---------------------+----------------+
| Debian Bullseye | PASS |
+---------------------+----------------+
| Fedora 38 | PASS |
+---------------------+----------------+
| RHEL8 | PASS |
+---------------------+----------------+
Debian 12
Kernel: Container Host Kernel
Compiler: gcc 10.2.1
Windows Server 2019
Kernel: 10.0.17763
Compiler: clang 14.0 and gcc 8.1.0 (MinGW)
Windows Server 2022
Kernel: 10.0.20348.2031
Compiler: clang 15.0.7, gcc 8.1.0 (MinGW), and MSVC VS 17.9
Debian Bullseye
Kernel: 5.4.0-167-generic
Compiler: gcc 10.2.1-6
Fedora 38
Kernel: Depends on container host
Compiler: gcc 13.2.1
RHEL8
Kernel: 5.4.0-167-generic
Compiler: gcc 8.5.0 20210514 (Red Hat 8.5.0-20)
To view detailed results, visit:
https://lab.dpdk.org/results/dashboard/tarballs/28863/
UNH-IOL DPDK Community Lab
To manage your email subscriptions, visit:
https://lab.dpdk.org/results/dashboard/preferences/subscriptions/
More information about the test-report
mailing list