|SUCCESS| pw139606 [PATCH] [v8] ethdev: fix strict aliasing lead to

dpdklab at iol.unh.edu dpdklab at iol.unh.edu
Mon Apr 22 10:20:43 CEST 2024


Test-Label: iol-unit-arm64-testing
Test-Status: SUCCESS
http://dpdk.org/patch/139606

_Testing PASS_

Submitter: fengchengwen <fengchengwen at huawei.com>
Date: Monday, April 22 2024 06:38:13 
DPDK git baseline: Repo:dpdk
  Branch: master
  CommitID:7b668b7d65ba33783c280d08489fa31685bd0ee6

139606 --> testing pass

Test environment and result as below:

+-----------------------------+----------------+------------------------------+--------------+
|         Environment         | dpdk_unit_test | cryptodev_sw_snow3g_autotest | lpm_autotest |
+=============================+================+==============================+==============+
| CentOS Stream 9 (ARM)       | PASS           | SKIPPED                      | SKIPPED      |
+-----------------------------+----------------+------------------------------+--------------+
| Debian 11 (Buster) (ARM)    | PASS           | SKIPPED                      | SKIPPED      |
+-----------------------------+----------------+------------------------------+--------------+
| Debian 12 (arm)             | PASS           | PASS                         | SKIPPED      |
+-----------------------------+----------------+------------------------------+--------------+
| Fedora 37 (ARM)             | PASS           | SKIPPED                      | SKIPPED      |
+-----------------------------+----------------+------------------------------+--------------+
| 32-bit Ubuntu 20.04.4 (ARM) | PASS           | SKIPPED                      | SKIPPED      |
+-----------------------------+----------------+------------------------------+--------------+
| Fedora 39 (ARM)             | PASS           | SKIPPED                      | SKIPPED      |
+-----------------------------+----------------+------------------------------+--------------+
| Fedora 38 (ARM)             | PASS           | SKIPPED                      | SKIPPED      |
+-----------------------------+----------------+------------------------------+--------------+
| Fedora 38 (ARM Clang)       | PASS           | SKIPPED                      | SKIPPED      |
+-----------------------------+----------------+------------------------------+--------------+
| Ubuntu 20.04 ARM SVE        | SKIPPED        | SKIPPED                      | PASS         |
+-----------------------------+----------------+------------------------------+--------------+


CentOS Stream 9 (ARM)
	Kernel: Container Host Kernel
	Compiler: gcc 11.4.1

Debian 11 (Buster) (ARM)
	Kernel: Container Host Kernel
	Compiler: gcc 10.2.1

Debian 12 (arm)
	Kernel: Container Host Kernel
	Compiler: gcc 12.2.0

Fedora 37 (ARM)
	Kernel: Depends on container host
	Compiler: gcc 12.3.1

32-bit Ubuntu 20.04.4 (ARM)
	Kernel: 5.4.0-155-generic aarch64
	Compiler: gcc 9.4

Fedora 39 (ARM)
	Kernel: Depends on container host
	Compiler: gcc 13.2.1

Fedora 38 (ARM)
	Kernel: Depends on container host
	Compiler: gcc 13.2.1

Fedora 38 (ARM Clang)
	Kernel: Depends on container host
	Compiler: clang 16.0.6

Ubuntu 20.04 ARM SVE
	Kernel: 5.4.0-167-generic
	Compiler: gcc (Ubuntu 10.5.0-1ubuntu1~20.04) 10.5.0

To view detailed results, visit:
https://lab.dpdk.org/results/dashboard/patchsets/29835/

UNH-IOL DPDK Community Lab

To manage your email subscriptions, visit: 
https://lab.dpdk.org/results/dashboard/preferences/subscriptions/


More information about the test-report mailing list