|SUCCESS| pw139608 [PATCH] eal/linux: enhanced error handling for af

dpdklab at iol.unh.edu dpdklab at iol.unh.edu
Mon Apr 22 16:43:41 CEST 2024


Test-Label: iol-abi-testing
Test-Status: SUCCESS
http://dpdk.org/patch/139608

_Testing PASS_

Submitter: Ferruh Yigit <ferruh.yigit at amd.com>
Date: Monday, April 22 2024 13:49:17 
DPDK git baseline: Repo:dpdk
  Branch: master
  CommitID:7e06c0de1952d3109a5b0c4779d7e7d8059c9d78

139608 --> testing pass

Test environment and result as below:

+------------------+----------+
|   Environment    | abi_test |
+==================+==========+
| CentOS Stream 9  | PASS     |
+------------------+----------+
| Debian Bullseye  | PASS     |
+------------------+----------+
| CentOS Stream 8  | PASS     |
+------------------+----------+
| Fedora 37        | PASS     |
+------------------+----------+
| Debian 12        | PASS     |
+------------------+----------+
| Fedora 38        | PASS     |
+------------------+----------+
| Fedora 39        | PASS     |
+------------------+----------+
| openSUSE Leap 15 | PASS     |
+------------------+----------+


CentOS Stream 9
	Kernel: 5.4.0-167-generic
	Compiler: gcc 11.4.1 20230605

Debian Bullseye
	Kernel: 5.4.0-167-generic
	Compiler: gcc 10.2.1-6

CentOS Stream 8
	Kernel: 5.4.0-167-generic
	Compiler: gcc 8.5.0 20210514

Fedora 37
	Kernel: Depends on container host system
	Compiler: gcc 12.3.1

Debian 12
	Kernel: Container Host Kernel
	Compiler: gcc 10.2.1

Fedora 38
	Kernel: Depends on container host
	Compiler: clang 16.0.6

Fedora 39
	Kernel: Depends on container host
	Compiler: clang 17.0.6

openSUSE Leap 15
	Kernel: 5.4.0-167-generic
	Compiler: gcc 7.5.0

To view detailed results, visit:
https://lab.dpdk.org/results/dashboard/patchsets/29836/

UNH-IOL DPDK Community Lab

To manage your email subscriptions, visit: 
https://lab.dpdk.org/results/dashboard/preferences/subscriptions/


More information about the test-report mailing list