|SUCCESS| pw139608 [PATCH] eal/linux: enhanced error handling for af

dpdklab at iol.unh.edu dpdklab at iol.unh.edu
Mon Apr 22 16:52:50 CEST 2024


Test-Label: iol-unit-arm64-testing
Test-Status: SUCCESS
http://dpdk.org/patch/139608

_Testing PASS_

Submitter: Ferruh Yigit <ferruh.yigit at amd.com>
Date: Monday, April 22 2024 13:49:17 
DPDK git baseline: Repo:dpdk
  Branch: master
  CommitID:7e06c0de1952d3109a5b0c4779d7e7d8059c9d78

139608 --> testing pass

Test environment and result as below:

+-----------------------------+---------------------------+----------------+------------------------------+--------------+
|         Environment         | cryptodev_sw_zuc_autotest | dpdk_unit_test | cryptodev_sw_snow3g_autotest | lpm_autotest |
+=============================+===========================+================+==============================+==============+
| Debian 12 (arm)             | PASS                      | PASS           | PASS                         | SKIPPED      |
+-----------------------------+---------------------------+----------------+------------------------------+--------------+
| CentOS Stream 9 (ARM)       | SKIPPED                   | PASS           | SKIPPED                      | SKIPPED      |
+-----------------------------+---------------------------+----------------+------------------------------+--------------+
| Debian 11 (Buster) (ARM)    | SKIPPED                   | PASS           | SKIPPED                      | SKIPPED      |
+-----------------------------+---------------------------+----------------+------------------------------+--------------+
| Fedora 37 (ARM)             | SKIPPED                   | PASS           | SKIPPED                      | SKIPPED      |
+-----------------------------+---------------------------+----------------+------------------------------+--------------+
| Fedora 39 (ARM)             | SKIPPED                   | PASS           | SKIPPED                      | SKIPPED      |
+-----------------------------+---------------------------+----------------+------------------------------+--------------+
| Ubuntu 20.04 (ARM)          | SKIPPED                   | PASS           | SKIPPED                      | SKIPPED      |
+-----------------------------+---------------------------+----------------+------------------------------+--------------+
| Fedora 38 (ARM)             | SKIPPED                   | PASS           | SKIPPED                      | SKIPPED      |
+-----------------------------+---------------------------+----------------+------------------------------+--------------+
| 32-bit Ubuntu 20.04.4 (ARM) | SKIPPED                   | PASS           | SKIPPED                      | SKIPPED      |
+-----------------------------+---------------------------+----------------+------------------------------+--------------+
| Ubuntu 20.04 ARM SVE        | SKIPPED                   | SKIPPED        | SKIPPED                      | PASS         |
+-----------------------------+---------------------------+----------------+------------------------------+--------------+


Debian 12 (arm)
	Kernel: Container Host Kernel
	Compiler: gcc 12.2.0

CentOS Stream 9 (ARM)
	Kernel: Container Host Kernel
	Compiler: gcc 11.4.1

Debian 11 (Buster) (ARM)
	Kernel: Container Host Kernel
	Compiler: gcc 10.2.1

Fedora 37 (ARM)
	Kernel: Depends on container host
	Compiler: gcc 12.3.1

Fedora 39 (ARM)
	Kernel: Depends on container host
	Compiler: gcc 13.2.1

Ubuntu 20.04 (ARM)
	Kernel: Container Host Kernel
	Compiler: gcc 9.4.0

Fedora 38 (ARM)
	Kernel: Depends on container host
	Compiler: gcc 13.2.1

32-bit Ubuntu 20.04.4 (ARM)
	Kernel: 5.4.0-155-generic aarch64
	Compiler: gcc 9.4

Ubuntu 20.04 ARM SVE
	Kernel: 5.4.0-167-generic
	Compiler: gcc (Ubuntu 10.5.0-1ubuntu1~20.04) 10.5.0

To view detailed results, visit:
https://lab.dpdk.org/results/dashboard/patchsets/29836/

UNH-IOL DPDK Community Lab

To manage your email subscriptions, visit: 
https://lab.dpdk.org/results/dashboard/preferences/subscriptions/


More information about the test-report mailing list