|SUCCESS| pw139621-139624 [PATCH] [v1,5/5] baseband/acc: cosmetic lo

dpdklab at iol.unh.edu dpdklab at iol.unh.edu
Mon Apr 22 23:05:54 CEST 2024


Test-Label: iol-unit-arm64-testing
Test-Status: SUCCESS
http://dpdk.org/patch/139624

_Testing PASS_

Submitter: Hernan Vargas <hernan.vargas at intel.com>
Date: Monday, April 22 2024 15:40:08 
DPDK git baseline: Repo:dpdk
  Branch: master
  CommitID:98b4ecb4e4d73e93fdfa53f552b48d71104b445f

139621-139624 --> testing pass

Test environment and result as below:

+-----------------------------+----------------+
|         Environment         | dpdk_unit_test |
+=============================+================+
| 32-bit Ubuntu 20.04.4 (ARM) | PASS           |
+-----------------------------+----------------+
| CentOS Stream 9 (ARM)       | PASS           |
+-----------------------------+----------------+
| Debian 11 (Buster) (ARM)    | PASS           |
+-----------------------------+----------------+
| Fedora 39 (ARM)             | PASS           |
+-----------------------------+----------------+
| Debian 12 (arm)             | PASS           |
+-----------------------------+----------------+
| Fedora 38 (ARM Clang)       | PASS           |
+-----------------------------+----------------+


32-bit Ubuntu 20.04.4 (ARM)
	Kernel: 5.4.0-155-generic aarch64
	Compiler: gcc 9.4

CentOS Stream 9 (ARM)
	Kernel: Container Host Kernel
	Compiler: gcc 11.4.1

Debian 11 (Buster) (ARM)
	Kernel: Container Host Kernel
	Compiler: gcc 10.2.1

Fedora 39 (ARM)
	Kernel: Depends on container host
	Compiler: gcc 13.2.1

Debian 12 (arm)
	Kernel: Container Host Kernel
	Compiler: gcc 12.2.0

Fedora 38 (ARM Clang)
	Kernel: Depends on container host
	Compiler: clang 16.0.6

To view detailed results, visit:
https://lab.dpdk.org/results/dashboard/patchsets/29839/

UNH-IOL DPDK Community Lab

To manage your email subscriptions, visit: 
https://lab.dpdk.org/results/dashboard/preferences/subscriptions/


More information about the test-report mailing list