|SUCCESS| [GIT MASTER] 8841786ab4aa72d205f97528af8708a13a851f4f
dpdklab at iol.unh.edu
dpdklab at iol.unh.edu
Tue Apr 23 08:54:05 CEST 2024
_Testing PASS_
Branch: dpdk-next-net
8841786ab4aa72d205f97528af8708a13a851f4f --> testing pass
Test environment and result as below:
+-----------------------+------------------------------+---------------------------+----------------+
| Environment | cryptodev_sw_snow3g_autotest | cryptodev_sw_zuc_autotest | dpdk_unit_test |
+=======================+==============================+===========================+================+
| Debian 12 (arm) | PASS | PASS | PASS |
+-----------------------+------------------------------+---------------------------+----------------+
| CentOS Stream 9 (ARM) | SKIPPED | SKIPPED | PASS |
+-----------------------+------------------------------+---------------------------+----------------+
Debian 12 (arm)
Kernel: Container Host Kernel
Compiler: gcc 12.2.0
CentOS Stream 9 (ARM)
Kernel: Container Host Kernel
Compiler: gcc 11.4.1
To view detailed results, visit:
https://lab.dpdk.org/results/dashboard/tarballs/28916/
UNH-IOL DPDK Community Lab
To manage your email subscriptions, visit:
https://lab.dpdk.org/results/dashboard/preferences/subscriptions/
More information about the test-report
mailing list