|SUCCESS| pw139628-139636 [PATCH] [v1,9/9] test/bbdev: remove unnece
dpdklab at iol.unh.edu
dpdklab at iol.unh.edu
Tue Apr 23 13:50:36 CEST 2024
Test-Label: iol-unit-arm64-testing
Test-Status: SUCCESS
http://dpdk.org/patch/139636
_Testing PASS_
Submitter: Hernan Vargas <hernan.vargas at intel.com>
Date: Monday, April 22 2024 19:08:00
DPDK git baseline: Repo:dpdk
Branch: master
CommitID:98b4ecb4e4d73e93fdfa53f552b48d71104b445f
139628-139636 --> testing pass
Test environment and result as below:
+--------------------------+----------------+
| Environment | dpdk_unit_test |
+==========================+================+
| Debian 11 (Buster) (ARM) | PASS |
+--------------------------+----------------+
| Debian 12 (arm) | PASS |
+--------------------------+----------------+
| CentOS Stream 9 (ARM) | PASS |
+--------------------------+----------------+
| Fedora 37 (ARM) | PASS |
+--------------------------+----------------+
| Fedora 39 (ARM) | PASS |
+--------------------------+----------------+
Debian 11 (Buster) (ARM)
Kernel: Container Host Kernel
Compiler: gcc 10.2.1
Debian 12 (arm)
Kernel: Container Host Kernel
Compiler: gcc 12.2.0
CentOS Stream 9 (ARM)
Kernel: Container Host Kernel
Compiler: gcc 11.4.1
Fedora 37 (ARM)
Kernel: Depends on container host
Compiler: gcc 12.3.1
Fedora 39 (ARM)
Kernel: Depends on container host
Compiler: gcc 13.2.1
To view detailed results, visit:
https://lab.dpdk.org/results/dashboard/patchsets/29842/
UNH-IOL DPDK Community Lab
To manage your email subscriptions, visit:
https://lab.dpdk.org/results/dashboard/preferences/subscriptions/
More information about the test-report
mailing list