|SUCCESS| pw139642 [PATCH] common/cnxk: restore segregation of logs

dpdklab at iol.unh.edu dpdklab at iol.unh.edu
Tue Apr 23 16:15:53 CEST 2024


Test-Label: iol-unit-arm64-testing
Test-Status: SUCCESS
http://dpdk.org/patch/139642

_Testing PASS_

Submitter: Anoob Joseph <anoobj at marvell.com>
Date: Tuesday, April 23 2024 10:44:43 
DPDK git baseline: Repo:dpdk
  Branch: master
  CommitID:7e06c0de1952d3109a5b0c4779d7e7d8059c9d78

139642 --> testing pass

Test environment and result as below:

+-----------------+---------------------------+------------------------------+----------------+
|   Environment   | cryptodev_sw_zuc_autotest | cryptodev_sw_snow3g_autotest | dpdk_unit_test |
+=================+===========================+==============================+================+
| Debian 12 (arm) | PASS                      | PASS                         | PASS           |
+-----------------+---------------------------+------------------------------+----------------+
| Fedora 37 (ARM) | SKIPPED                   | SKIPPED                      | PASS           |
+-----------------+---------------------------+------------------------------+----------------+


Debian 12 (arm)
	Kernel: Container Host Kernel
	Compiler: gcc 12.2.0

Fedora 37 (ARM)
	Kernel: Depends on container host
	Compiler: gcc 12.3.1

To view detailed results, visit:
https://lab.dpdk.org/results/dashboard/patchsets/29845/

UNH-IOL DPDK Community Lab

To manage your email subscriptions, visit: 
https://lab.dpdk.org/results/dashboard/preferences/subscriptions/


More information about the test-report mailing list