|SUCCESS| pw139670 [PATCH] eal/linux: enhanced error handling for af
dpdklab at iol.unh.edu
dpdklab at iol.unh.edu
Thu Apr 25 14:56:42 CEST 2024
Test-Label: iol-abi-testing
Test-Status: SUCCESS
http://dpdk.org/patch/139670
_Testing PASS_
Submitter: Wu Jian Yue <wujianyue000 at 163.com>
Date: Tuesday, April 23 2024 03:02:43
DPDK git baseline: Repo:dpdk
Branch: master
CommitID:7e06c0de1952d3109a5b0c4779d7e7d8059c9d78
139670 --> testing pass
Test environment and result as below:
+------------------+----------+
| Environment | abi_test |
+==================+==========+
| CentOS Stream 9 | PASS |
+------------------+----------+
| Fedora 38 | PASS |
+------------------+----------+
| CentOS Stream 8 | PASS |
+------------------+----------+
| Fedora 39 | PASS |
+------------------+----------+
| Debian Bullseye | PASS |
+------------------+----------+
| RHEL8 | PASS |
+------------------+----------+
| Fedora 37 | PASS |
+------------------+----------+
| Debian 12 | PASS |
+------------------+----------+
| Ubuntu 22.04 | PASS |
+------------------+----------+
| openSUSE Leap 15 | PASS |
+------------------+----------+
CentOS Stream 9
Kernel: 5.4.0-167-generic
Compiler: gcc 11.4.1 20230605
Fedora 38
Kernel: Depends on container host
Compiler: gcc 13.2.1
CentOS Stream 8
Kernel: 5.4.0-167-generic
Compiler: gcc 8.5.0 20210514
Fedora 39
Kernel: Depends on container host
Compiler: gcc 13.2.1
Debian Bullseye
Kernel: 5.4.0-167-generic
Compiler: gcc 10.2.1-6
RHEL8
Kernel: 5.4.0-167-generic
Compiler: gcc 8.5.0 20210514 (Red Hat 8.5.0-20)
Fedora 37
Kernel: Depends on container host system
Compiler: gcc 12.3.1
Debian 12
Kernel: Container Host Kernel
Compiler: gcc 10.2.1
Ubuntu 22.04
Kernel: 5.4.0-167-generic
Compiler: gcc 11.4.0
openSUSE Leap 15
Kernel: 5.4.0-167-generic
Compiler: gcc 7.5.0
To view detailed results, visit:
https://lab.dpdk.org/results/dashboard/patchsets/29851/
UNH-IOL DPDK Community Lab
To manage your email subscriptions, visit:
https://lab.dpdk.org/results/dashboard/preferences/subscriptions/
More information about the test-report
mailing list