|SUCCESS| pw139700 [PATCH] [v4] lib/vhost: add flag for async connec
dpdklab at iol.unh.edu
dpdklab at iol.unh.edu
Fri Apr 26 15:39:55 CEST 2024
Test-Label: iol-compile-arm64-testing
Test-Status: SUCCESS
http://dpdk.org/patch/139700
_Testing PASS_
Submitter: Daniil Ushkov <daniil.ushkov at yandex.ru>
Date: Friday, April 26 2024 08:47:06
DPDK git baseline: Repo:dpdk
Branch: master
CommitID:deedfb86a7a6e10064d3cccd593f62072de96e36
139700 --> testing pass
Test environment and result as below:
+----------------------+--------------------+
| Environment | dpdk_meson_compile |
+======================+====================+
| Ubuntu 20.04 ARM SVE | PASS |
+----------------------+--------------------+
| Fedora 38 (ARM) | PASS |
+----------------------+--------------------+
| Ubuntu 20.04 (ARM) | PASS |
+----------------------+--------------------+
Ubuntu 20.04 ARM SVE
Kernel: 5.4.0-167-generic
Compiler: gcc (Ubuntu 10.5.0-1ubuntu1~20.04) 10.5.0
Fedora 38 (ARM)
Kernel: Depends on container host
Compiler: gcc 13.2.1
Ubuntu 20.04 (ARM)
Kernel: Container Host Kernel
Compiler: gcc 9.4.0
To view detailed results, visit:
https://lab.dpdk.org/results/dashboard/patchsets/29864/
UNH-IOL DPDK Community Lab
To manage your email subscriptions, visit:
https://lab.dpdk.org/results/dashboard/preferences/subscriptions/
More information about the test-report
mailing list