|SUCCESS| pw139704-139703 [PATCH] [RFC,2/2] graph: add ip4 output fe

dpdklab at iol.unh.edu dpdklab at iol.unh.edu
Fri Apr 26 19:02:02 CEST 2024


Test-Label: iol-unit-arm64-testing
Test-Status: SUCCESS
http://dpdk.org/patch/139703

_Testing PASS_

Submitter: Nitin Saxena <nsaxena at marvell.com>
Date: Friday, April 26 2024 12:22:03 
DPDK git baseline: Repo:dpdk
  Branch: master
  CommitID:7e06c0de1952d3109a5b0c4779d7e7d8059c9d78

139704-139703 --> testing pass

Test environment and result as below:

+-----------------------+----------------+
|      Environment      | dpdk_unit_test |
+=======================+================+
| Fedora 37 (ARM)       | PASS           |
+-----------------------+----------------+
| Debian 12 (arm)       | PASS           |
+-----------------------+----------------+
| CentOS Stream 9 (ARM) | PASS           |
+-----------------------+----------------+
| Fedora 39 (ARM)       | PASS           |
+-----------------------+----------------+
| Fedora 38 (ARM)       | PASS           |
+-----------------------+----------------+


Fedora 37 (ARM)
	Kernel: Depends on container host
	Compiler: gcc 12.3.1

Debian 12 (arm)
	Kernel: Container Host Kernel
	Compiler: gcc 12.2.0

CentOS Stream 9 (ARM)
	Kernel: Container Host Kernel
	Compiler: gcc 11.4.1

Fedora 39 (ARM)
	Kernel: Depends on container host
	Compiler: gcc 13.2.1

Fedora 38 (ARM)
	Kernel: Depends on container host
	Compiler: gcc 13.2.1

To view detailed results, visit:
https://lab.dpdk.org/results/dashboard/patchsets/29867/

UNH-IOL DPDK Community Lab

To manage your email subscriptions, visit: 
https://lab.dpdk.org/results/dashboard/preferences/subscriptions/


More information about the test-report mailing list