|SUCCESS| [GIT MASTER] 7e06c0de1952d3109a5b0c4779d7e7d8059c9d78

dpdklab at iol.unh.edu dpdklab at iol.unh.edu
Tue Apr 30 02:34:02 CEST 2024


_Testing PASS_

Branch: dpdk

7e06c0de1952d3109a5b0c4779d7e7d8059c9d78 --> testing pass

Test environment and result as below:

+-----------------------+------------------------------+---------------------------+----------------+
|      Environment      | cryptodev_sw_snow3g_autotest | cryptodev_sw_zuc_autotest | dpdk_unit_test |
+=======================+==============================+===========================+================+
| Debian 12 (arm)       | PASS                         | PASS                      | PASS           |
+-----------------------+------------------------------+---------------------------+----------------+
| CentOS Stream 9 (ARM) | SKIPPED                      | SKIPPED                   | PASS           |
+-----------------------+------------------------------+---------------------------+----------------+


Debian 12 (arm)
	Kernel: Container Host Kernel
	Compiler: gcc 12.2.0

CentOS Stream 9 (ARM)
	Kernel: Container Host Kernel
	Compiler: gcc 11.4.1

To view detailed results, visit:
https://lab.dpdk.org/results/dashboard/tarballs/28974/

UNH-IOL DPDK Community Lab

To manage your email subscriptions, visit: 
https://lab.dpdk.org/results/dashboard/preferences/subscriptions/


More information about the test-report mailing list