|SUCCESS| pw139727-139731 [PATCH] [RFC,v4,6/6] eal: add unit tests f
dpdklab at iol.unh.edu
dpdklab at iol.unh.edu
Tue Apr 30 13:56:40 CEST 2024
Test-Label: iol-unit-arm64-testing
Test-Status: SUCCESS
http://dpdk.org/patch/139731
_Testing PASS_
Submitter: Mattias Ronnblom <mattias.ronnblom at ericsson.com>
Date: Tuesday, April 30 2024 09:55:23
DPDK git baseline: Repo:dpdk
Branch: master
CommitID:7e06c0de1952d3109a5b0c4779d7e7d8059c9d78
139727-139731 --> testing pass
Test environment and result as below:
+-----------------------------+----------------+--------------+
| Environment | dpdk_unit_test | lpm_autotest |
+=============================+================+==============+
| Debian 11 (Buster) (ARM) | PASS | SKIPPED |
+-----------------------------+----------------+--------------+
| 32-bit Ubuntu 20.04.4 (ARM) | PASS | SKIPPED |
+-----------------------------+----------------+--------------+
| Fedora 37 (ARM) | PASS | SKIPPED |
+-----------------------------+----------------+--------------+
| CentOS Stream 9 (ARM) | PASS | SKIPPED |
+-----------------------------+----------------+--------------+
| Debian 12 (arm) | PASS | SKIPPED |
+-----------------------------+----------------+--------------+
| Ubuntu 20.04 ARM SVE | SKIPPED | PASS |
+-----------------------------+----------------+--------------+
Debian 11 (Buster) (ARM)
Kernel: Container Host Kernel
Compiler: gcc 10.2.1
32-bit Ubuntu 20.04.4 (ARM)
Kernel: 5.4.0-155-generic aarch64
Compiler: gcc 9.4
Fedora 37 (ARM)
Kernel: Depends on container host
Compiler: gcc 12.3.1
CentOS Stream 9 (ARM)
Kernel: Container Host Kernel
Compiler: gcc 11.4.1
Debian 12 (arm)
Kernel: Container Host Kernel
Compiler: gcc 12.2.0
Ubuntu 20.04 ARM SVE
Kernel: 5.4.0-167-generic
Compiler: gcc (Ubuntu 10.5.0-1ubuntu1~20.04) 10.5.0
To view detailed results, visit:
https://lab.dpdk.org/results/dashboard/patchsets/29877/
UNH-IOL DPDK Community Lab
To manage your email subscriptions, visit:
https://lab.dpdk.org/results/dashboard/preferences/subscriptions/
More information about the test-report
mailing list