|SUCCESS| pw136241-136245 [PATCH] [v5,5/5] net/gve: add RSS redirect
dpdklab at iol.unh.edu
dpdklab at iol.unh.edu
Thu Feb 1 00:10:38 CET 2024
Test-Label: iol-unit-arm64-testing
Test-Status: SUCCESS
http://dpdk.org/patch/136245
_Testing PASS_
Submitter: Joshua Washington <joshwash at google.com>
Date: Wednesday, January 31 2024 22:13:08
DPDK git baseline: Repo:dpdk
Branch: master
CommitID:8e5cbd3d1f6f077abdcb2ef4de027603ba9af5ca
136241-136245 --> testing pass
Test environment and result as below:
+--------------------------+------------------------------+----------------+---------------------------+
| Environment | cryptodev_sw_snow3g_autotest | dpdk_unit_test | cryptodev_sw_zuc_autotest |
+==========================+==============================+================+===========================+
| Debian 11 (arm) | PASS | SKIPPED | PASS |
+--------------------------+------------------------------+----------------+---------------------------+
| CentOS Stream 9 (ARM) | SKIPPED | PASS | SKIPPED |
+--------------------------+------------------------------+----------------+---------------------------+
| Fedora 37 (ARM) | SKIPPED | PASS | SKIPPED |
+--------------------------+------------------------------+----------------+---------------------------+
| Debian 11 (Buster) (ARM) | SKIPPED | PASS | SKIPPED |
+--------------------------+------------------------------+----------------+---------------------------+
| Fedora 38 (ARM) | SKIPPED | PASS | SKIPPED |
+--------------------------+------------------------------+----------------+---------------------------+
Debian 11 (arm)
Kernel: Container Host Kernel
Compiler: gcc 10.2.1
CentOS Stream 9 (ARM)
Kernel: Container Host Kernel
Compiler: gcc 11.3.1
Fedora 37 (ARM)
Kernel: Depends on container host
Compiler: gcc 12.3.1
Debian 11 (Buster) (ARM)
Kernel: Container Host Kernel
Compiler: gcc 10.2.1
Fedora 38 (ARM)
Kernel: Depends on container host
Compiler: gcc 13.1.1
To view detailed results, visit:
https://lab.dpdk.org/results/dashboard/patchsets/29007/
UNH-IOL DPDK Community Lab
To manage your email subscriptions, visit:
https://lab.dpdk.org/results/dashboard/preferences/subscriptions/
More information about the test-report
mailing list