|SUCCESS| pw136252 [PATCH] ethdev: recommend against using locks in
dpdklab at iol.unh.edu
dpdklab at iol.unh.edu
Thu Feb 1 10:50:59 CET 2024
Test-Label: iol-compile-arm64-testing
Test-Status: SUCCESS
http://dpdk.org/patch/136252
_Testing PASS_
Submitter: David Marchand <david.marchand at redhat.com>
Date: Thursday, February 01 2024 08:43:18
DPDK git baseline: Repo:dpdk
Branch: master
CommitID:8e5cbd3d1f6f077abdcb2ef4de027603ba9af5ca
136252 --> testing pass
Test environment and result as below:
+----------------------------------------+--------------------+
| Environment | dpdk_meson_compile |
+========================================+====================+
| Ubuntu 20.04 ARM SVE | PASS |
+----------------------------------------+--------------------+
| Ubuntu 20.04 ARM Clang Cross Compile | PASS |
+----------------------------------------+--------------------+
| Ubuntu 20.04 aarch32 GCC Cross Compile | PASS |
+----------------------------------------+--------------------+
Ubuntu 20.04 ARM SVE
Kernel: 5.4.0-80-generic
Compiler: gcc 10.3.0 (Ubuntu 10.3.0-1ubuntu1~20.04)
Ubuntu 20.04 ARM Clang Cross Compile
Kernel: 5.4.0-72-generic
Compiler: clang version 10.0.0-4ubuntu1
Ubuntu 20.04 aarch32 GCC Cross Compile
Kernel: 5.4.0-72-generic
Compiler: gcc 9.3.0
To view detailed results, visit:
https://lab.dpdk.org/results/dashboard/patchsets/29011/
UNH-IOL DPDK Community Lab
To manage your email subscriptions, visit:
https://lab.dpdk.org/results/dashboard/preferences/subscriptions/
More information about the test-report
mailing list