|SUCCESS| pw136253 [PATCH] [v2] app/testpmd: support updating flow r

dpdklab at iol.unh.edu dpdklab at iol.unh.edu
Thu Feb 1 12:08:06 CET 2024


Test-Label: iol-unit-arm64-testing
Test-Status: SUCCESS
http://dpdk.org/patch/136253

_Testing PASS_

Submitter: Oleksandr Kolomeiets <okl-plv at napatech.com>
Date: Thursday, February 01 2024 09:59:07 
DPDK git baseline: Repo:dpdk
  Branch: master
  CommitID:8e5cbd3d1f6f077abdcb2ef4de027603ba9af5ca

136253 --> testing pass

Test environment and result as below:

+-----------------------+----------------+--------------+
|      Environment      | dpdk_unit_test | lpm_autotest |
+=======================+================+==============+
| CentOS Stream 9 (ARM) | PASS           | SKIPPED      |
+-----------------------+----------------+--------------+
| Fedora 38 (ARM)       | PASS           | SKIPPED      |
+-----------------------+----------------+--------------+
| Ubuntu 20.04 ARM SVE  | SKIPPED        | PASS         |
+-----------------------+----------------+--------------+


CentOS Stream 9 (ARM)
	Kernel: Container Host Kernel
	Compiler: gcc 11.3.1

Fedora 38 (ARM)
	Kernel: Depends on container host
	Compiler: gcc 13.1.1

Ubuntu 20.04 ARM SVE
	Kernel: 5.4.0-80-generic
	Compiler: gcc 10.3.0 (Ubuntu 10.3.0-1ubuntu1~20.04)

To view detailed results, visit:
https://lab.dpdk.org/results/dashboard/patchsets/29012/

UNH-IOL DPDK Community Lab

To manage your email subscriptions, visit: 
https://lab.dpdk.org/results/dashboard/preferences/subscriptions/


More information about the test-report mailing list