|SUCCESS| pw136257-136259 [PATCH] [v5,3/3] net/mlx5: add compare ite
dpdklab at iol.unh.edu
dpdklab at iol.unh.edu
Thu Feb 1 14:09:24 CET 2024
Test-Label: iol-abi-testing
Test-Status: SUCCESS
http://dpdk.org/patch/136259
_Testing PASS_
Submitter: Suanming Mou <suanmingm at nvidia.com>
Date: Thursday, February 01 2024 12:29:22
DPDK git baseline: Repo:dpdk
Branch: master
CommitID:8e5cbd3d1f6f077abdcb2ef4de027603ba9af5ca
136257-136259 --> testing pass
Test environment and result as below:
+------------------+----------+
| Environment | abi_test |
+==================+==========+
| openSUSE Leap 15 | PASS |
+------------------+----------+
| Debian Bullseye | PASS |
+------------------+----------+
| Ubuntu 22.04 | PASS |
+------------------+----------+
openSUSE Leap 15
Kernel: 4.18.0-240.10.1.el8_3.x86_64
Compiler: gcc 7.5.0
Debian Bullseye
Kernel: 5.4.0-122-generic
Compiler: gcc 10.2.1-6
Ubuntu 22.04
Kernel: 4.18.0-240.10.1.el8_3.x86_64
Compiler: gcc 11.3.0
To view detailed results, visit:
https://lab.dpdk.org/results/dashboard/patchsets/29015/
UNH-IOL DPDK Community Lab
To manage your email subscriptions, visit:
https://lab.dpdk.org/results/dashboard/preferences/subscriptions/
More information about the test-report
mailing list